BEGIN:VCALENDAR
VERSION:2.0
PRODID:-//Escuela superior de Administración Pública - ECPv6.15.13//NONSGML v1.0//EN
CALSCALE:GREGORIAN
METHOD:PUBLISH
X-WR-CALNAME:Escuela superior de Administración Pública
X-ORIGINAL-URL:https://www.esap.edu.co
X-WR-CALDESC:Eventos para Escuela superior de Administración Pública
REFRESH-INTERVAL;VALUE=DURATION:PT1H
X-Robots-Tag:noindex
X-PUBLISHED-TTL:PT1H
BEGIN:VTIMEZONE
TZID:America/New_York
BEGIN:DAYLIGHT
TZOFFSETFROM:-0500
TZOFFSETTO:-0400
TZNAME:EDT
DTSTART:20230312T070000
END:DAYLIGHT
BEGIN:STANDARD
TZOFFSETFROM:-0400
TZOFFSETTO:-0500
TZNAME:EST
DTSTART:20231105T060000
END:STANDARD
BEGIN:DAYLIGHT
TZOFFSETFROM:-0500
TZOFFSETTO:-0400
TZNAME:EDT
DTSTART:20240310T070000
END:DAYLIGHT
BEGIN:STANDARD
TZOFFSETFROM:-0400
TZOFFSETTO:-0500
TZNAME:EST
DTSTART:20241103T060000
END:STANDARD
BEGIN:DAYLIGHT
TZOFFSETFROM:-0500
TZOFFSETTO:-0400
TZNAME:EDT
DTSTART:20250309T070000
END:DAYLIGHT
BEGIN:STANDARD
TZOFFSETFROM:-0400
TZOFFSETTO:-0500
TZNAME:EST
DTSTART:20251102T060000
END:STANDARD
END:VTIMEZONE
BEGIN:VEVENT
DTSTART;TZID=America/New_York:20240731T100000
DTEND;TZID=America/New_York:20240731T120000
DTSTAMP:20260420T055342
CREATED:20240522T185639Z
LAST-MODIFIED:20240522T185639Z
UID:90789-1722420000-1722427200@www.esap.edu.co
SUMMARY:Procedimiento de Racionalización de Trámites a la Ciudadanía
DESCRIPTION:
URL:https://www.esap.edu.co/evento/procedimiento-de-racionalizacion-de-tramites-a-la-ciudadania-2/
LOCATION:ESAP Central\, Cl. 44 #53-37\, Bogotá\, Colombia
CATEGORIES:capacitacion
END:VEVENT
BEGIN:VEVENT
DTSTART;TZID=America/New_York:20240727T070000
DTEND;TZID=America/New_York:20240727T140000
DTSTAMP:20260420T055342
CREATED:20240702T213754Z
LAST-MODIFIED:20240702T213754Z
UID:92864-1722063600-1722088800@www.esap.edu.co
SUMMARY:FERIA ESTUDIANTES A LA E
DESCRIPTION:COLEGIO JAIME HERNANDO GARZÓN FORERO
URL:https://www.esap.edu.co/evento/feria-estudiantes-a-la-e/
LOCATION:ESAP Central\, Cl. 44 #53-37\, Bogotá\, Colombia
END:VEVENT
BEGIN:VEVENT
DTSTART;TZID=America/New_York:20240726T070000
DTEND;TZID=America/New_York:20240726T130000
DTSTAMP:20260420T055342
CREATED:20240702T213705Z
LAST-MODIFIED:20240702T213705Z
UID:92862-1721977200-1721998800@www.esap.edu.co
SUMMARY:FERIA UNIVERSITARIA
DESCRIPTION:COLEGIO SANTA ISABEL DE HUNGRIA
URL:https://www.esap.edu.co/evento/feria-universitaria-4/
LOCATION:ESAP Central\, Cl. 44 #53-37\, Bogotá\, Colombia
END:VEVENT
BEGIN:VEVENT
DTSTART;VALUE=DATE:20240718
DTEND;VALUE=DATE:20240719
DTSTAMP:20260420T055342
CREATED:20240702T213557Z
LAST-MODIFIED:20240702T213557Z
UID:92859-1721260800-1721347199@www.esap.edu.co
SUMMARY:VII FERIA UNIVERSITARIA COLSANJOSE
DESCRIPTION:COLEGIO SAN JOSÉ
URL:https://www.esap.edu.co/evento/vii-feria-universitaria-colsanjose/
LOCATION:ESAP Central\, Cl. 44 #53-37\, Bogotá\, Colombia
END:VEVENT
BEGIN:VEVENT
DTSTART;TZID=America/New_York:20240703T100000
DTEND;TZID=America/New_York:20240703T120000
DTSTAMP:20260420T055342
CREATED:20240522T185500Z
LAST-MODIFIED:20240522T185500Z
UID:90787-1720000800-1720008000@www.esap.edu.co
SUMMARY:Procedimiento de Racionalización de Trámites a la Ciudadanía
DESCRIPTION:
URL:https://www.esap.edu.co/evento/procedimiento-de-racionalizacion-de-tramites-a-la-ciudadania/
LOCATION:ESAP Central\, Cl. 44 #53-37\, Bogotá\, Colombia
CATEGORIES:capacitacion
END:VEVENT
BEGIN:VEVENT
DTSTART;VALUE=DATE:20240622
DTEND;VALUE=DATE:20240624
DTSTAMP:20260420T055342
CREATED:20240702T213331Z
LAST-MODIFIED:20240702T213331Z
UID:92856-1719014400-1719187199@www.esap.edu.co
SUMMARY:Juntémonos para tejer lo público
DESCRIPTION:POLIDEPORTIVO TIERRALTA CÓRDOBA
URL:https://www.esap.edu.co/evento/juntemonos-para-tejer-lo-publico/
LOCATION:ESAP Central\, Cl. 44 #53-37\, Bogotá\, Colombia
END:VEVENT
BEGIN:VEVENT
DTSTART;TZID=America/New_York:20240618T103000
DTEND;TZID=America/New_York:20240618T130000
DTSTAMP:20260420T055342
CREATED:20240702T213232Z
LAST-MODIFIED:20240702T213232Z
UID:92854-1718706600-1718715600@www.esap.edu.co
SUMMARY:FERIA DE UNIVERSIDADES
DESCRIPTION:GIMNASIO CORAZÓN DE MARIA
URL:https://www.esap.edu.co/evento/feria-de-universidades/
LOCATION:ESAP Central\, Cl. 44 #53-37\, Bogotá\, Colombia
END:VEVENT
BEGIN:VEVENT
DTSTART;TZID=America/New_York:20240615T073000
DTEND;TZID=America/New_York:20240615T120000
DTSTAMP:20260420T055342
CREATED:20240702T212758Z
LAST-MODIFIED:20240702T212758Z
UID:92852-1718436600-1718452800@www.esap.edu.co
SUMMARY:FERIA UNIVERSITARIA DEL COLEGIO BUENAVISTA IED CALASANZ
DESCRIPTION:COLEGIO BUENAVISTA IED CALASANZ
URL:https://www.esap.edu.co/evento/feria-universitaria-del-colegio-buenavista-ied-calasanz/
LOCATION:ESAP Central\, Cl. 44 #53-37\, Bogotá\, Colombia
END:VEVENT
BEGIN:VEVENT
DTSTART;TZID=America/New_York:20240613T080000
DTEND;TZID=America/New_York:20240613T120000
DTSTAMP:20260420T055342
CREATED:20240522T185328Z
LAST-MODIFIED:20240522T185328Z
UID:90785-1718265600-1718280000@www.esap.edu.co
SUMMARY:Procedimiento de Participación Ciudadana
DESCRIPTION:
URL:https://www.esap.edu.co/evento/procedimiento-de-participacion-ciudadana-2/
LOCATION:ESAP Central\, Cl. 44 #53-37\, Bogotá\, Colombia
CATEGORIES:capacitacion
END:VEVENT
BEGIN:VEVENT
DTSTART;TZID=America/New_York:20240612T080000
DTEND;TZID=America/New_York:20240612T120000
DTSTAMP:20260420T055342
CREATED:20240522T185102Z
LAST-MODIFIED:20240522T185102Z
UID:90783-1718179200-1718193600@www.esap.edu.co
SUMMARY:Procedimiento de Participación Ciudadana
DESCRIPTION:
URL:https://www.esap.edu.co/evento/procedimiento-de-participacion-ciudadana/
LOCATION:ESAP Central\, Cl. 44 #53-37\, Bogotá\, Colombia
CATEGORIES:capacitacion
END:VEVENT
BEGIN:VEVENT
DTSTART;VALUE=DATE:20240612
DTEND;VALUE=DATE:20240613
DTSTAMP:20260420T055342
CREATED:20240702T212414Z
LAST-MODIFIED:20240702T212414Z
UID:92848-1718150400-1718236799@www.esap.edu.co
SUMMARY:FERIAUNIVERSITARIA FORYOU. DOMINGUISTAS POR UN FUTURO MEJOR
DESCRIPTION:FERIAUNIVERSITARIA FORYOU. DOMINGUISTAS POR UN FUTURO MEJOR	COLEGIO SANTO DOMINGO BILINGÜE
URL:https://www.esap.edu.co/evento/feriauniversitaria-foryou-dominguistas-por-un-futuro-mejor/
END:VEVENT
BEGIN:VEVENT
DTSTART;TZID=America/New_York:20240611T090000
DTEND;TZID=America/New_York:20240611T113000
DTSTAMP:20260420T055342
CREATED:20240702T212608Z
LAST-MODIFIED:20240702T212608Z
UID:92850-1718096400-1718105400@www.esap.edu.co
SUMMARY:FERIA DE CARRERAS Y OPORTUNIDADES ACADÉMICAS
DESCRIPTION:AGENCIA NACIONAL DE INFRAESTRUCTURA
URL:https://www.esap.edu.co/evento/feria-de-carreras-y-oportunidades-academicas/
LOCATION:ESAP Central\, Cl. 44 #53-37\, Bogotá\, Colombia
END:VEVENT
BEGIN:VEVENT
DTSTART;VALUE=DATE:20240607
DTEND;VALUE=DATE:20240608
DTSTAMP:20260420T055342
CREATED:20240702T212245Z
LAST-MODIFIED:20240702T212245Z
UID:92846-1717718400-1717804799@www.esap.edu.co
SUMMARY:FERIA UNIVERSITARIA PABLISTA
DESCRIPTION:FERIA UNIVERSITARIA PABLISTA
URL:https://www.esap.edu.co/evento/feria-universitaria-pablista/
END:VEVENT
BEGIN:VEVENT
DTSTART;VALUE=DATE:20240607
DTEND;VALUE=DATE:20240608
DTSTAMP:20260420T055342
CREATED:20240702T212026Z
LAST-MODIFIED:20240702T212026Z
UID:92844-1717718400-1717804799@www.esap.edu.co
SUMMARY:UNIVERSIDAD AL COLEGIO 2024
DESCRIPTION:UNIVERSIDAD AL COLEGIO 2024
URL:https://www.esap.edu.co/evento/universidad-al-colegio-2024/
END:VEVENT
BEGIN:VEVENT
DTSTART;VALUE=DATE:20240531
DTEND;VALUE=DATE:20240601
DTSTAMP:20260420T055342
CREATED:20240702T211049Z
LAST-MODIFIED:20240702T211049Z
UID:92840-1717113600-1717199999@www.esap.edu.co
SUMMARY:EXPO-FERIA UNIVERSITARIA 2024\, ELIGE TU U.
DESCRIPTION:EXPO-FERIA UNIVERSITARIA 2024\, ELIGE TU U.
URL:https://www.esap.edu.co/evento/expo-feria-universitaria-2024-elige-tu-u/
LOCATION:ESAP Central\, Cl. 44 #53-37\, Bogotá\, Colombia
END:VEVENT
BEGIN:VEVENT
DTSTART;VALUE=DATE:20240531
DTEND;VALUE=DATE:20240601
DTSTAMP:20260420T055342
CREATED:20240702T210815Z
LAST-MODIFIED:20240702T210815Z
UID:92838-1717113600-1717199999@www.esap.edu.co
SUMMARY:FERIA DE SERVICIOS PARQUES NACIONALES NATURALES DE COLOMBIA
DESCRIPTION:FERIA DE SERVICIOS PARQUES NACIONALES NATURALES DE COLOMBIA
URL:https://www.esap.edu.co/evento/feria-de-servicios-parques-nacionales-naturales-de-colombia/
LOCATION:ESAP Central\, Cl. 44 #53-37\, Bogotá\, Colombia
END:VEVENT
BEGIN:VEVENT
DTSTART;VALUE=DATE:20240531
DTEND;VALUE=DATE:20240601
DTSTAMP:20260420T055342
CREATED:20240702T210647Z
LAST-MODIFIED:20240702T210647Z
UID:92836-1717113600-1717199999@www.esap.edu.co
SUMMARY:FERIA UNIVERSITARIA
DESCRIPTION:FERIA UNIVERSITARIA
URL:https://www.esap.edu.co/evento/feria-universitaria-3/
END:VEVENT
BEGIN:VEVENT
DTSTART;VALUE=DATE:20240527
DTEND;VALUE=DATE:20240601
DTSTAMP:20260420T055342
CREATED:20240702T211151Z
LAST-MODIFIED:20240702T211151Z
UID:92842-1716768000-1717199999@www.esap.edu.co
SUMMARY:Construyendo la ESAP desde el territorio
DESCRIPTION:Construyendo la ESAP desde el territorio
URL:https://www.esap.edu.co/evento/construyendo-la-esap-desde-el-territorio/
LOCATION:ESAP Central\, Cl. 44 #53-37\, Bogotá\, Colombia
END:VEVENT
BEGIN:VEVENT
DTSTART;TZID=America/New_York:20240523T090000
DTEND;TZID=America/New_York:20240523T120000
DTSTAMP:20260420T055342
CREATED:20240522T184901Z
LAST-MODIFIED:20240522T184901Z
UID:90137-1716454800-1716465600@www.esap.edu.co
SUMMARY:Administración de canales Chat bot y Línea telefónica
DESCRIPTION:
URL:https://www.esap.edu.co/evento/administracion-de-canales-chat-bot-y-linea-telefonica/
LOCATION:ESAP Central\, Cl. 44 #53-37\, Bogotá\, Colombia
CATEGORIES:capacitacion
END:VEVENT
BEGIN:VEVENT
DTSTART;VALUE=DATE:20240517
DTEND;VALUE=DATE:20240518
DTSTAMP:20260420T055342
CREATED:20240702T210519Z
LAST-MODIFIED:20240702T210519Z
UID:92834-1715904000-1715990399@www.esap.edu.co
SUMMARY:FERIA EDUCATIVA VIRTUAL - UNP REGIONALES
DESCRIPTION:FERIA EDUCATIVA VIRTUAL – UNP REGIONALES
URL:https://www.esap.edu.co/evento/feria-educativa-virtual-unp-regionales/
END:VEVENT
BEGIN:VEVENT
DTSTART;VALUE=DATE:20240507
DTEND;VALUE=DATE:20240508
DTSTAMP:20260420T055342
CREATED:20240702T210418Z
LAST-MODIFIED:20240702T210418Z
UID:92832-1715040000-1715126399@www.esap.edu.co
SUMMARY:FERIA EDUCATIVA - UNP SECCIONAL BOGOTÁ
DESCRIPTION:FERIA EDUCATIVA – UNP SECCIONAL BOGOTÁ
URL:https://www.esap.edu.co/evento/feria-educativa-unp-seccional-bogota/
END:VEVENT
BEGIN:VEVENT
DTSTART;VALUE=DATE:20240503
DTEND;VALUE=DATE:20240504
DTSTAMP:20260420T055342
CREATED:20240702T210319Z
LAST-MODIFIED:20240702T210319Z
UID:92830-1714694400-1714780799@www.esap.edu.co
SUMMARY:FERIA DE SERVICIOS DPS
DESCRIPTION:FERIA DE SERVICIOS DPS
URL:https://www.esap.edu.co/evento/feria-de-servicios-dps/
END:VEVENT
BEGIN:VEVENT
DTSTART;TZID=America/New_York:20240429T100000
DTEND;TZID=America/New_York:20240429T120000
DTSTAMP:20260420T055342
CREATED:20240522T184607Z
LAST-MODIFIED:20240522T184607Z
UID:90776-1714384800-1714392000@www.esap.edu.co
SUMMARY:Gestión de manejo de PQRSDF para agilizar respuestas
DESCRIPTION:
URL:https://www.esap.edu.co/evento/gestion-de-manejo-de-pqrsdf-para-agilizar-respuestas-2/
LOCATION:ESAP Central\, Cl. 44 #53-37\, Bogotá\, Colombia
CATEGORIES:capacitacion
END:VEVENT
BEGIN:VEVENT
DTSTART;VALUE=DATE:20240418
DTEND;VALUE=DATE:20240420
DTSTAMP:20260420T055342
CREATED:20240702T205922Z
LAST-MODIFIED:20240702T205922Z
UID:92828-1713398400-1713571199@www.esap.edu.co
SUMMARY:PRIMERA FERIA DE SERVICIOS UNIVERSITARIOS – 2024
DESCRIPTION:PRIMERA FERIA DE SERVICIOS UNIVERSITARIOS – 2024
URL:https://www.esap.edu.co/evento/primera-feria-de-servicios-universitarios-2024/
END:VEVENT
BEGIN:VEVENT
DTSTART;VALUE=DATE:20240417
DTEND;VALUE=DATE:20240503
DTSTAMP:20260420T055342
CREATED:20240702T205702Z
LAST-MODIFIED:20240702T205702Z
UID:92823-1713312000-1714694399@www.esap.edu.co
SUMMARY:FILBO
DESCRIPTION:FILBO
URL:https://www.esap.edu.co/evento/filbo/
END:VEVENT
BEGIN:VEVENT
DTSTART;VALUE=DATE:20240416
DTEND;VALUE=DATE:20240417
DTSTAMP:20260420T055342
CREATED:20240702T205805Z
LAST-MODIFIED:20240702T205805Z
UID:92826-1713225600-1713311999@www.esap.edu.co
SUMMARY:FERIA EDUCATIVA MINSALUD 2024
DESCRIPTION:FERIA EDUCATIVA MINSALUD 2024
URL:https://www.esap.edu.co/evento/feria-educativa-minsalud-2024/
END:VEVENT
BEGIN:VEVENT
DTSTART;TZID=America/New_York:20240409T090000
DTEND;TZID=America/New_York:20240409T120000
DTSTAMP:20260420T055342
CREATED:20240522T184400Z
LAST-MODIFIED:20240522T184400Z
UID:90774-1712653200-1712664000@www.esap.edu.co
SUMMARY:Política de Relacionamiento con la Ciudadanía
DESCRIPTION:
URL:https://www.esap.edu.co/evento/politica-de-relacionamiento-con-la-ciudadania/
LOCATION:ESAP Central\, Cl. 44 #53-37\, Bogotá\, Colombia
CATEGORIES:capacitacion
END:VEVENT
BEGIN:VEVENT
DTSTART;TZID=America/New_York:20240323T090000
DTEND;TZID=America/New_York:20240323T120000
DTSTAMP:20260420T055342
CREATED:20240522T183943Z
LAST-MODIFIED:20240522T183943Z
UID:90772-1711184400-1711195200@www.esap.edu.co
SUMMARY:Gestión de manejo de PQRSDF para agilizar respuestas
DESCRIPTION:
URL:https://www.esap.edu.co/evento/gestion-de-manejo-de-pqrsdf-para-agilizar-respuestas/
LOCATION:ESAP Central\, Cl. 44 #53-37\, Bogotá\, Colombia
CATEGORIES:capacitacion
END:VEVENT
BEGIN:VEVENT
DTSTART;VALUE=DATE:20240205
DTEND;VALUE=DATE:20240206
DTSTAMP:20260420T055342
CREATED:20240702T205548Z
LAST-MODIFIED:20240702T205548Z
UID:92820-1707091200-1707177599@www.esap.edu.co
SUMMARY:FERIA DE SERVICIOS INTERNA
DESCRIPTION:FERIA DE SERVICIOS INTERNA
URL:https://www.esap.edu.co/evento/feria-de-servicios-interna-2/
LOCATION:ESAP Central\, Cl. 44 #53-37\, Bogotá\, Colombia
END:VEVENT
BEGIN:VEVENT
DTSTART;VALUE=DATE:20240131
DTEND;VALUE=DATE:20240201
DTSTAMP:20260420T055342
CREATED:20240702T205444Z
LAST-MODIFIED:20240702T205444Z
UID:92818-1706659200-1706745599@www.esap.edu.co
SUMMARY:FERIA DE SERVICIOS INTERNA
DESCRIPTION:FERIA DE SERVICIOS INTERNA
URL:https://www.esap.edu.co/evento/feria-de-servicios-interna/
LOCATION:ESAP Central\, Cl. 44 #53-37\, Bogotá\, Colombia
END:VEVENT
END:VCALENDAR