BEGIN:VCALENDAR
VERSION:2.0
PRODID:-//Escuela superior de Administración Pública - ECPv6.15.13//NONSGML v1.0//EN
CALSCALE:GREGORIAN
METHOD:PUBLISH
X-ORIGINAL-URL:https://www.esap.edu.co
X-WR-CALDESC:Eventos para Escuela superior de Administración Pública
REFRESH-INTERVAL;VALUE=DURATION:PT1H
X-Robots-Tag:noindex
X-PUBLISHED-TTL:PT1H
BEGIN:VTIMEZONE
TZID:America/New_York
BEGIN:DAYLIGHT
TZOFFSETFROM:-0500
TZOFFSETTO:-0400
TZNAME:EDT
DTSTART:20220313T070000
END:DAYLIGHT
BEGIN:STANDARD
TZOFFSETFROM:-0400
TZOFFSETTO:-0500
TZNAME:EST
DTSTART:20221106T060000
END:STANDARD
BEGIN:DAYLIGHT
TZOFFSETFROM:-0500
TZOFFSETTO:-0400
TZNAME:EDT
DTSTART:20230312T070000
END:DAYLIGHT
BEGIN:STANDARD
TZOFFSETFROM:-0400
TZOFFSETTO:-0500
TZNAME:EST
DTSTART:20231105T060000
END:STANDARD
BEGIN:DAYLIGHT
TZOFFSETFROM:-0500
TZOFFSETTO:-0400
TZNAME:EDT
DTSTART:20240310T070000
END:DAYLIGHT
BEGIN:STANDARD
TZOFFSETFROM:-0400
TZOFFSETTO:-0500
TZNAME:EST
DTSTART:20241103T060000
END:STANDARD
END:VTIMEZONE
BEGIN:VEVENT
DTSTART;VALUE=DATE:20230927
DTEND;VALUE=DATE:20230928
DTSTAMP:20260420T132053
CREATED:20230825T043736Z
LAST-MODIFIED:20230825T043736Z
UID:80137-1695772800-1695859199@www.esap.edu.co
SUMMARY:Sesión V: Socializar la plataforma EVA y su equipo de trabajo en formación y fortalecimiento de participación ciudadana\, mediante los cursos y diplomados con los que cuenta la plataforma EVA. Veeduría con enfoque de derechos humanos y étnico
DESCRIPTION:Actividad:\nProceso de formación para ser Contralores Estudiantiles dirigidas por la Dirección de Atención al Ciudadano\, la Dirección de Capacitaciones de la ESAP en articulación con la Secretaría de Transparencia de Presidencia de la República\, la Contraloría General de República\, la Contraloría Distrital\, la Procuraduría General de la Nación\, el Ministerio de Educación Nacional\, la Secretaría de Educación Distrital y el Departamento Administrativo de la Función Púbica. \nAcción Participativa:\nCrear la figura de Contralor Estudiantil en el marco de la Ley 2195 de 2022\, para fomentar la participación ciudadana\, promover la integridad\, asegurar la transparencia\, la buena gestión pública y el buen uso de los recursos. \nGrupos de valor:\nEstudiantes ESAP \nContacto:\nemilce.franco@esap.edu.co
URL:https://www.esap.edu.co/evento/sesion-v-socializar-la-plataforma-eva-y-su-equipo-de-trabajo-en-formacion-y-fortalecimiento-de-participacion-ciudadana-mediante-los-cursos-y-diplomados-con-los-que-cuenta-la-plataforma-eva-veeduria/
CATEGORIES:Dirección de Atención al Ciduadano
END:VEVENT
BEGIN:VEVENT
DTSTART;TZID=America/New_York:20230926T080000
DTEND;TZID=America/New_York:20230926T170000
DTSTAMP:20260420T132053
CREATED:20231006T010948Z
LAST-MODIFIED:20231006T010948Z
UID:81810-1695715200-1695747600@www.esap.edu.co
SUMMARY:Estrategía Usme Móvil
DESCRIPTION:Acción Participativa:Escenarios de relacionamiento con nuestros grupos de valor- en donde se busca promover y destacar los servicios y oferta institucionalGrupos de valorCiudadania en generalContactosergio.zabala@esap.edu.co  adriana.nunez@esap.edu.co
URL:https://www.esap.edu.co/evento/estrategia-usme-movil-2/
CATEGORIES:Dirección de Atención al Ciduadano
END:VEVENT
BEGIN:VEVENT
DTSTART;TZID=America/New_York:20230925T080000
DTEND;TZID=America/New_York:20230925T170000
DTSTAMP:20260420T132053
CREATED:20231006T010948Z
LAST-MODIFIED:20231006T010948Z
UID:81809-1695628800-1695661200@www.esap.edu.co
SUMMARY:Hackatón Distrital
DESCRIPTION:Acción Participativa:Escenarios de relacionamiento con nuestros grupos de valor- en donde se busca promover y destacar los servicios y oferta institucionalGrupos de valorCiudadania en generalContactosergio.zabala@esap.edu.co
URL:https://www.esap.edu.co/evento/hackaton-distrital-2/
CATEGORIES:Dirección de Atención al Ciduadano
END:VEVENT
BEGIN:VEVENT
DTSTART;TZID=America/New_York:20230922T080000
DTEND;TZID=America/New_York:20230922T170000
DTSTAMP:20260420T132053
CREATED:20231006T010948Z
LAST-MODIFIED:20231006T010948Z
UID:81808-1695369600-1695402000@www.esap.edu.co
SUMMARY:Juntémonos: el festival para tejer lo público
DESCRIPTION:Acción Participativa:Escenarios de relacionamiento con nuestros grupos de valor- en donde se busca promover y destacar los servicios y oferta institucionalGrupos de valorCiudadania en generalContactosergio.zabala@esap.edu.co
URL:https://www.esap.edu.co/evento/juntemonos-el-festival-para-tejer-lo-publico-4/
CATEGORIES:Dirección de Atención al Ciduadano
END:VEVENT
BEGIN:VEVENT
DTSTART;TZID=America/New_York:20230922T080000
DTEND;TZID=America/New_York:20230922T170000
DTSTAMP:20260420T132053
CREATED:20231006T010947Z
LAST-MODIFIED:20231006T010947Z
UID:81807-1695369600-1695402000@www.esap.edu.co
SUMMARY:Feria Universitaria
DESCRIPTION:Acción Participativa:Escenarios de relacionamiento con nuestros grupos de valor- en donde se busca promover y destacar los servicios y oferta institucionalGrupos de valorEstudiantes y docentes de la instituciónContactosergio.zabala@esap.edu.co
URL:https://www.esap.edu.co/evento/feria-universitaria-2/
CATEGORIES:Dirección de Atención al Ciduadano
END:VEVENT
BEGIN:VEVENT
DTSTART;VALUE=DATE:20230922
DTEND;VALUE=DATE:20230923
DTSTAMP:20260420T132053
CREATED:20230614T050904Z
LAST-MODIFIED:20230614T051509Z
UID:76478-1695340800-1695427199@www.esap.edu.co
SUMMARY:Avances en el proceso de implementación participativa del piloto Escuela Móvil de Formación Político- Administrativa para la Mediación Intercultural - EMMIC\, La ESAP en el colegio
DESCRIPTION:Acción Participativa:\nRealizar la implementación participativa del piloto Escuela Móvil de Formación Político- Administrativa para la Mediación Intercultural – EMMIC\, con el propósito de fortalecer capacidades para la toma de decisiones sobre el proyecto de vida despúes del colegio con familias\, docentes y estudiantes NARP de los grados 10 y 11 del Instituto Politécnico La Milagrosa de Puerto Tejada Cauca. \nGrupos de valor:\nEstudiantes grado 10 y 11\, familias\, Docentes\, Población NARP del Instituto Politécnico La Milagrosa Puerto Tejada \nContacto:\ngerman.molina@esap.edu.co
URL:https://www.esap.edu.co/evento/avances-en-el-proceso-de-implementacion-participativa-del-piloto-escuela-movil-de-formacion-politico-administrativa-para-la-mediacion-intercultural-emmic-la-esap-en-el-colegio-3/
LOCATION:Instituto Politécnico La Milagrosa de Puerto Tejada Cauca\, Calle 18 # 7-37\, Puerto Tejada Cauca\, Colombia
CATEGORIES:Coordinación Académica,Dirección Territorial Cauca,Procesos Étnicos e Interculturales
END:VEVENT
BEGIN:VEVENT
DTSTART;VALUE=DATE:20230920
DTEND;VALUE=DATE:20230921
DTSTAMP:20260420T132053
CREATED:20230825T043328Z
LAST-MODIFIED:20230825T043328Z
UID:80134-1695168000-1695254399@www.esap.edu.co
SUMMARY:Sesión V: Capacitar y socializar la experiencia de la Red Distrital de Contralores Estudiantiles
DESCRIPTION:Actividad:\nProceso de formación para ser Contralores Estudiantiles dirigidas por la Dirección de Atención al Ciudadano\, la Dirección de Capacitaciones de la ESAP en articulación con la Secretaría de Transparencia de Presidencia de la República\, la Contraloría General de República\, la Contraloría Distrital\, la Procuraduría General de la Nación\, el Ministerio de Educación Nacional\, la Secretaría de Educación Distrital y el Departamento Administrativo de la Función Púbica. \nAcción Participativa:\nCrear la figura de Contralor Estudiantil en el marco de la Ley 2195 de 2022\, para fomentar la participación ciudadana\, promover la integridad\, asegurar la transparencia\, la buena gestión pública y el buen uso de los recursos. \nGrupos de valor:\nEstudiantes ESAP \nContacto:\nemilce.franco@esap.edu.co
URL:https://www.esap.edu.co/evento/sesion-v-capacitar-y-socializar-la-experiencia-de-la-red-distrital-de-contralores-estudiantiles/
CATEGORIES:Dirección de Atención al Ciduadano
END:VEVENT
BEGIN:VEVENT
DTSTART;TZID=America/New_York:20230919T080000
DTEND;TZID=America/New_York:20230919T170000
DTSTAMP:20260420T132053
CREATED:20231006T010947Z
LAST-MODIFIED:20231006T010947Z
UID:81806-1695110400-1695142800@www.esap.edu.co
SUMMARY:Feria Universitaria:“Atrévete a Soñar”
DESCRIPTION:Acción Participativa:Escenarios de relacionamiento con nuestros grupos de valor- en donde se busca promover y destacar los servicios y oferta institucionalGrupos de valorEstudiantes y docentes de la instituciónContactosergio.zabala@esap.edu.co
URL:https://www.esap.edu.co/evento/feria-universitariaatrevete-a-sonar-2/
CATEGORIES:Dirección de Atención al Ciduadano
END:VEVENT
BEGIN:VEVENT
DTSTART;TZID=America/New_York:20230915T080000
DTEND;TZID=America/New_York:20230915T170000
DTSTAMP:20260420T132053
CREATED:20231006T010945Z
LAST-MODIFIED:20231006T010945Z
UID:81805-1694764800-1694797200@www.esap.edu.co
SUMMARY:Feria educativa de la localidad Rafael Uribe Uribe
DESCRIPTION:Acción Participativa:Escenarios de relacionamiento con nuestros grupos de valor- en donde se busca promover y destacar los servicios y oferta institucionalGrupos de valorEstudiantes y docentes de la instituciónContactosergio.zabala@esap.edu.co
URL:https://www.esap.edu.co/evento/feria-educativa-de-la-localidad-rafael-uribe-uribe-2/
CATEGORIES:Dirección de Atención al Ciduadano
END:VEVENT
BEGIN:VEVENT
DTSTART;VALUE=DATE:20230915
DTEND;VALUE=DATE:20230916
DTSTAMP:20260420T132053
CREATED:20230614T050845Z
LAST-MODIFIED:20230614T051514Z
UID:76479-1694736000-1694822399@www.esap.edu.co
SUMMARY:Avances en el proceso de implementación participativa del piloto Escuela Móvil de Formación Político- Administrativa para la Mediación Intercultural - EMMIC\, La ESAP en el colegio
DESCRIPTION:Acción Participativa:\nRealizar la implementación participativa del piloto Escuela Móvil de Formación Político- Administrativa para la Mediación Intercultural – EMMIC\, con el propósito de fortalecer capacidades para la toma de decisiones sobre el proyecto de vida despúes del colegio con familias\, docentes y estudiantes NARP de los grados 10 y 11 del Instituto Politécnico La Milagrosa de Puerto Tejada Cauca. \nGrupos de valor:\nEstudiantes grado 10 y 11\, familias\, Docentes\, Población NARP del Instituto Politécnico La Milagrosa Puerto Tejada \nContacto:\ngerman.molina@esap.edu.co
URL:https://www.esap.edu.co/evento/avances-en-el-proceso-de-implementacion-participativa-del-piloto-escuela-movil-de-formacion-politico-administrativa-para-la-mediacion-intercultural-emmic-la-esap-en-el-colegio-2/
LOCATION:Instituto Politécnico La Milagrosa de Puerto Tejada Cauca\, Calle 18 # 7-37\, Puerto Tejada Cauca\, Colombia
CATEGORIES:Coordinación Académica,Dirección Territorial Cauca,Procesos Étnicos e Interculturales
END:VEVENT
BEGIN:VEVENT
DTSTART;TZID=America/New_York:20230914T080000
DTEND;TZID=America/New_York:20230914T170000
DTSTAMP:20260420T132053
CREATED:20231006T010945Z
LAST-MODIFIED:20231006T010945Z
UID:81804-1694678400-1694710800@www.esap.edu.co
SUMMARY:Feria educativa de la localidad Kennedy
DESCRIPTION:Acción Participativa:Escenarios de relacionamiento con nuestros grupos de valor- en donde se busca promover y destacar los servicios y oferta institucionalGrupos de valorEstudiantes y docentes de la instituciónContactosergio.zabala@esap.edu.co
URL:https://www.esap.edu.co/evento/feria-educativa-de-la-localidad-kennedy-2/
CATEGORIES:Dirección de Atención al Ciduadano
END:VEVENT
BEGIN:VEVENT
DTSTART;TZID=America/New_York:20230914T080000
DTEND;TZID=America/New_York:20230914T170000
DTSTAMP:20260420T132053
CREATED:20231006T010944Z
LAST-MODIFIED:20231006T010944Z
UID:81803-1694678400-1694710800@www.esap.edu.co
SUMMARY:Feria educativa de la localidad Mártires
DESCRIPTION:Acción Participativa:Escenarios de relacionamiento con nuestros grupos de valor- en donde se busca promover y destacar los servicios y oferta institucionalGrupos de valorEstudiantes y docentes de la instituciónContactosergio.zabala@esap.edu.co
URL:https://www.esap.edu.co/evento/feria-educativa-de-la-localidad-martires-2/
CATEGORIES:Dirección de Atención al Ciduadano
END:VEVENT
BEGIN:VEVENT
DTSTART;VALUE=DATE:20230913
DTEND;VALUE=DATE:20230914
DTSTAMP:20260420T132053
CREATED:20230825T043204Z
LAST-MODIFIED:20230825T043204Z
UID:80132-1694563200-1694649599@www.esap.edu.co
SUMMARY:Sesión IV: Socializar y sensibilizar la importancia de inclusión y enfoque étnico\, basado en la experiencia de la traducción de la Ley 1712 de 2014 de Transparencia a diferentes dialectos
DESCRIPTION:Actividad:\nProceso de formación para ser Contralores Estudiantiles dirigidas por la Dirección de Atención al Ciudadano\, la Dirección de Capacitaciones de la ESAP en articulación con la Secretaría de Transparencia de Presidencia de la República\, la Contraloría General de República\, la Contraloría Distrital\, la Procuraduría General de la Nación\, el Ministerio de Educación Nacional\, la Secretaría de Educación Distrital y el Departamento Administrativo de la Función Púbica. \nAcción Participativa:\nCrear la figura de Contralor Estudiantil en el marco de la Ley 2195 de 2022\, para fomentar la participación ciudadana\, promover la integridad\, asegurar la transparencia\, la buena gestión pública y el buen uso de los recursos. \nGrupos de valor:\nEstudiantes ESAP \nContacto:\nemilce.franco@esap.edu.co
URL:https://www.esap.edu.co/evento/sesion-iv-socializar-y-sensibilizar-la-importancia-de-inclusion-y-enfoque-etnico-basado-en-la-experiencia-de-la-traduccion-de-la-ley-1712-de-2014-de-transparencia-a-diferentes-dialectos/
CATEGORIES:Dirección de Atención al Ciduadano
END:VEVENT
BEGIN:VEVENT
DTSTART;VALUE=DATE:20230913
DTEND;VALUE=DATE:20230914
DTSTAMP:20260420T132053
CREATED:20230616T040223Z
LAST-MODIFIED:20230616T040223Z
UID:76776-1694563200-1694649599@www.esap.edu.co
SUMMARY:Taller. Desaprender para crear: los mitos del amor romántico.
DESCRIPTION:Acción Participativa:\nEn el marco de la celebración comercial del amor y la amistad se realizará un taller para explorar las diferentes formas en las que el discurso del amor romántico puede normalizar violencias al interior de las parejas.  \nGrupos de valor:\nEstudiantes ESAP\nServidores y colaboradores públicos ESAP \nContacto:\nlaura.castrillon@esap.edu.co \nRegistro: Pendiente
URL:https://www.esap.edu.co/evento/taller-desaprender-para-crear-los-mitos-del-amor-romantico/
CATEGORIES:Dirección de Bienestar Universitario
END:VEVENT
BEGIN:VEVENT
DTSTART;TZID=America/New_York:20230912T080000
DTEND;TZID=America/New_York:20230912T170000
DTSTAMP:20260420T132053
CREATED:20231006T011004Z
LAST-MODIFIED:20231006T011004Z
UID:81815-1694505600-1694538000@www.esap.edu.co
SUMMARY:Taller cuidado de lo público
DESCRIPTION:Acción Participativa:Sensibilización en control social y cuidado de lo públicoGrupos de valorEstudiantes Sede BogotáContactoservicio.ciudadania@esap.edu.co  adriana.nunez@esap.edu.co
URL:https://www.esap.edu.co/evento/taller-cuidado-de-lo-publico-2/
CATEGORIES:Dirección de Atención al Ciduadano
END:VEVENT
BEGIN:VEVENT
DTSTART;TZID=America/New_York:20230912T080000
DTEND;TZID=America/New_York:20230912T170000
DTSTAMP:20260420T132053
CREATED:20231005T235912Z
LAST-MODIFIED:20231006T010944Z
UID:81783-1694505600-1694538000@www.esap.edu.co
SUMMARY:Feria Universitaria: Las oportunidades no ocurren- las creas tu.
DESCRIPTION:Acción Participativa:Escenarios de relacionamiento con nuestros grupos de valor- en donde se busca promover y destacar los servicios y oferta institucionalGrupos de valorEstudiantes y docentes de la instituciónContactosergio.zabala@esap.edu.co
URL:https://www.esap.edu.co/evento/feria-universitaria-las-oportunidades-no-ocurren-las-creas-tu/
CATEGORIES:Dirección de Atención al Ciduadano
END:VEVENT
BEGIN:VEVENT
DTSTART;VALUE=DATE:20230908
DTEND;VALUE=DATE:20230909
DTSTAMP:20260420T132053
CREATED:20230614T050707Z
LAST-MODIFIED:20230614T051520Z
UID:76470-1694131200-1694217599@www.esap.edu.co
SUMMARY:Avances en el proceso de implementación participativa del piloto Escuela Móvil de Formación Político- Administrativa para la Mediación Intercultural - EMMIC\, La ESAP en el colegio
DESCRIPTION:Acción Participativa:\nRealizar la implementación participativa del piloto Escuela Móvil de Formación Político- Administrativa para la Mediación Intercultural – EMMIC\, con el propósito de fortalecer capacidades para la toma de decisiones sobre el proyecto de vida despúes del colegio con familias\, docentes y estudiantes NARP de los grados 10 y 11 del Instituto Politécnico La Milagrosa de Puerto Tejada Cauca. \nGrupos de valor:\nEstudiantes grado 10 y 11\, familias\, Docentes\, Población NARP del Instituto Politécnico La Milagrosa Puerto Tejada \nContacto:\ngerman.molina@esap.edu.co
URL:https://www.esap.edu.co/evento/avances-en-el-proceso-de-implementacion-participativa-del-piloto-escuela-movil-de-formacion-politico-administrativa-para-la-mediacion-intercultural-emmic-la-esap-en-el-colegio/
LOCATION:Instituto Politécnico La Milagrosa de Puerto Tejada Cauca\, Calle 18 # 7-37\, Puerto Tejada Cauca\, Colombia
CATEGORIES:Coordinación Académica,Dirección Territorial Cauca,Procesos Étnicos e Interculturales
END:VEVENT
BEGIN:VEVENT
DTSTART;VALUE=DATE:20230906
DTEND;VALUE=DATE:20230907
DTSTAMP:20260420T132053
CREATED:20230825T043005Z
LAST-MODIFIED:20230825T043005Z
UID:80130-1693958400-1694044799@www.esap.edu.co
SUMMARY:Sesión III: Capacitar en criterios y enfoque diferencial
DESCRIPTION:Actividad:\nProceso de formación para ser Contralores Estudiantiles dirigidas por la Dirección de Atención al Ciudadano\, la Dirección de Capacitaciones de la ESAP en articulación con la Secretaría de Transparencia de Presidencia de la República\, la Contraloría General de República\, la Contraloría Distrital\, la Procuraduría General de la Nación\, el Ministerio de Educación Nacional\, la Secretaría de Educación Distrital y el Departamento Administrativo de la Función Púbica. \nAcción Participativa:\nCrear la figura de Contralor Estudiantil en el marco de la Ley 2195 de 2022\, para fomentar la participación ciudadana\, promover la integridad\, asegurar la transparencia\, la buena gestión pública y el buen uso de los recursos. \nGrupos de valor:\nEstudiantes ESAP \nContacto:\nemilce.franco@esap.edu.co
URL:https://www.esap.edu.co/evento/sesion-iii-capacitar-en-criterios-y-enfoque-diferencial/
CATEGORIES:Dirección de Atención al Ciduadano
END:VEVENT
BEGIN:VEVENT
DTSTART;TZID=America/New_York:20230904T080000
DTEND;TZID=America/New_York:20230904T170000
DTSTAMP:20260420T132053
CREATED:20231006T010944Z
LAST-MODIFIED:20231006T010944Z
UID:81802-1693814400-1693846800@www.esap.edu.co
SUMMARY:Feria de servicios
DESCRIPTION:Acción Participativa:Escenarios de relacionamiento con nuestros grupos de valor- en donde se busca promover y destacar los servicios y oferta institucionalGrupos de valorServidores públicos y contratistas de la entidadContactosergio.zabala@esap.edu.co
URL:https://www.esap.edu.co/evento/feria-de-servicios-3/
CATEGORIES:Dirección de Atención al Ciduadano
END:VEVENT
BEGIN:VEVENT
DTSTART;VALUE=DATE:20230901
DTEND;VALUE=DATE:20230902
DTSTAMP:20260420T132053
CREATED:20230614T045947Z
LAST-MODIFIED:20230614T051524Z
UID:76467-1693526400-1693612799@www.esap.edu.co
SUMMARY:Avances en el proceso de implementación participativa del piloto Escuela Móvil de Formación Político- Administrativa para la Mediación Intercultural - EMMIC\, La ESAP en el colegio
DESCRIPTION:Acción Participativa:\nRealizar la implementación participativa del piloto Escuela Móvil de Formación Político- Administrativa para la Mediación Intercultural – EMMIC\, con el propósito de fortalecer capacidades para la toma de decisiones sobre el proyecto de vida despúes del colegio con familias\, docentes y estudiantes NARP de los grados 10 y 11 del Instituto Politécnico La Milagrosa de Puerto Tejada Cauca. \nGrupos de valor:\nEstudiantes grado 10 y 11\, familias\, Docentes\, Población NARP del Instituto Politécnico La Milagrosa Puerto Tejada \nContacto:\ngerman.molina@esap.edu.co
URL:https://www.esap.edu.co/evento/mediacion-intercultural-emmic-la-esap/
LOCATION:Instituto Politécnico La Milagrosa de Puerto Tejada Cauca\, Calle 18 # 7-37\, Puerto Tejada Cauca\, Colombia
CATEGORIES:Coordinación Académica,Dirección Territorial Cauca,Procesos Étnicos e Interculturales
END:VEVENT
BEGIN:VEVENT
DTSTART;VALUE=DATE:20230830
DTEND;VALUE=DATE:20230831
DTSTAMP:20260420T132053
CREATED:20230904T145135Z
LAST-MODIFIED:20230904T145135Z
UID:80473-1693353600-1693439999@www.esap.edu.co
SUMMARY:Premiación concurso voces por la transparencia
DESCRIPTION:Acción Participativa:\nConcurso Voces por La Transparencia \nFomentar la participación ciudadana y el diálogo constructivo en torno a la Transparencia y la Ética Pública y promover la construcción colectiva de soluciones innovadoras y prácticas para mejorar la transparencia\, la integridad y el relacionamiento de la ESAP con los grupos de valor en la lucha contra la\ncorrupción.  \nGrupos de valor:\nEstudiantes\nEgresados\nGraduados\nDocentes\nOrganizaciones Sindicales\nPadres de familia\nPersonal administrativo y directivo
URL:https://www.esap.edu.co/evento/premiacion-concurso-voces-por-la-transparencia/
LOCATION:ESAP Central\, Cl. 44 #53-37\, Bogotá\, Colombia
CATEGORIES:Oficina de Planeación
END:VEVENT
BEGIN:VEVENT
DTSTART;VALUE=DATE:20230830
DTEND;VALUE=DATE:20230831
DTSTAMP:20260420T132053
CREATED:20230825T042805Z
LAST-MODIFIED:20230825T042805Z
UID:80128-1693353600-1693439999@www.esap.edu.co
SUMMARY:Sesión II: Sensibilizar sobre el control social (cuidado de lo público que incluya como temática el Proyecto Educativo Institucional PEI general)\, veeduría ciudadana y participación incidente
DESCRIPTION:Actividad:\nProceso de formación para ser Contralores Estudiantiles dirigidas por la Dirección de Atención al Ciudadano\, la Dirección de Capacitaciones de la ESAP en articulación con la Secretaría de Transparencia de Presidencia de la República\, la Contraloría General de República\, la Contraloría Distrital\, la Procuraduría General de la Nación\, el Ministerio de Educación Nacional\, la Secretaría de Educación Distrital y el Departamento Administrativo de la Función Púbica. \nAcción Participativa:\nCrear la figura de Contralor Estudiantil en el marco de la Ley 2195 de 2022\, para fomentar la participación ciudadana\, promover la integridad\, asegurar la transparencia\, la buena gestión pública y el buen uso de los recursos. \nGrupos de valor:\nEstudiantes ESAP \nContacto:\nemilce.franco@esap.edu.co
URL:https://www.esap.edu.co/evento/sesion-ii-sensibilizar-sobre-el-control-social-cuidado-de-lo-publico-que-incluya-como-tematica-el-proyecto-educativo-institucional-pei-general-veeduria-ciudadana-y-participacion-incidente/
CATEGORIES:Dirección de Atención al Ciduadano
END:VEVENT
BEGIN:VEVENT
DTSTART;VALUE=DATE:20230830
DTEND;VALUE=DATE:20230831
DTSTAMP:20260420T132053
CREATED:20230825T041449Z
LAST-MODIFIED:20230825T041449Z
UID:80122-1693353600-1693439999@www.esap.edu.co
SUMMARY:Audiencia de rendición de cuentas
DESCRIPTION:Acción Participativa:\nEscenarios de relacionamiento con nuestros grupos de valor\, en donde se busca promover y destacar los servicios y oferta institucional de nuestra institución y posicionar la ESAP como excelencia educativa.  \nGrupos de valor:\nCiudadania en general  \nContacto:\nsergio.zabala@esap.edu.co \nLugar:\nESAP\, nivel central y direcciones territoriales
URL:https://www.esap.edu.co/evento/audiencia-de-rendicion-de-cuentas/
CATEGORIES:Dirección de Atención al Ciduadano
END:VEVENT
BEGIN:VEVENT
DTSTART;VALUE=DATE:20230829
DTEND;VALUE=DATE:20230830
DTSTAMP:20260420T132053
CREATED:20230825T040917Z
LAST-MODIFIED:20230825T040917Z
UID:80120-1693267200-1693353599@www.esap.edu.co
SUMMARY:Jornada de fortalecimiento de la Transparencia\, promoción de la Integridad y Lucha contra la Corrupción
DESCRIPTION:Acción Participativa:\nEscenarios de relacionamiento con nuestros grupos de valor\, en donde se busca promover y destacar los servicios y oferta institucional de nuestra institución y posicionar la ESAP como excelencia educativa.  \nGrupos de valor:\nCiudadania en general  \nContacto:\nsergio.zabala@esap.edu.co \nLugar:\nESAP\, nivel central y direcciones territoriales
URL:https://www.esap.edu.co/evento/jornada-de-fortalecimiento-de-la-transparencia-promocion/
CATEGORIES:Dirección de Atención al Ciduadano
END:VEVENT
BEGIN:VEVENT
DTSTART;VALUE=DATE:20230825
DTEND;VALUE=DATE:20230827
DTSTAMP:20260420T132053
CREATED:20230825T040629Z
LAST-MODIFIED:20230825T040629Z
UID:80118-1692921600-1693094399@www.esap.edu.co
SUMMARY:Juntémonos: el festival para tejer lo público
DESCRIPTION:Acción Participativa:\nEscenarios de relacionamiento con nuestros grupos de valor\, en donde se busca promover y destacar los servicios y oferta institucional de nuestra institución y posicionar la ESAP como excelencia educativa.  \nGrupos de valor:\nCiudadania en general  \nContacto:\nsergio.zabala@esap.edu.co \nLugar:\nHacarí\, Norte de Santander
URL:https://www.esap.edu.co/evento/juntemonos-el-festival-para-tejer-lo-publico-2/
CATEGORIES:Dirección de Atención al Ciduadano
END:VEVENT
BEGIN:VEVENT
DTSTART;VALUE=DATE:20230825
DTEND;VALUE=DATE:20230826
DTSTAMP:20260420T132053
CREATED:20230825T035620Z
LAST-MODIFIED:20230825T035620Z
UID:80116-1692921600-1693007999@www.esap.edu.co
SUMMARY:Congreso de los Pueblos y Comunidades Negras\, Afrocolombianas\, Palenqueras y Raizales
DESCRIPTION:Acción Participativa:\nEscenarios de relacionamiento con nuestros grupos de valor\, en donde se busca promover y destacar los servicios y oferta institucional de nuestra institución y posicionar la ESAP como excelencia educativa.  \nGrupos de valor:\nCiudadania en general  \nContacto:\nsergio.zabala@esap.edu.co \nLugar:\nUniversidad Nacional de Colombia
URL:https://www.esap.edu.co/evento/congreso-de-los-pueblos-y-comunidades-negras-afrocolombianas-palenqueras-y-raizales/
CATEGORIES:Dirección de Atención al Ciduadano
END:VEVENT
BEGIN:VEVENT
DTSTART;VALUE=DATE:20230825
DTEND;VALUE=DATE:20230826
DTSTAMP:20260420T132053
CREATED:20230825T035255Z
LAST-MODIFIED:20230825T035255Z
UID:80114-1692921600-1693007999@www.esap.edu.co
SUMMARY:Feria Universitaria Colegio María Inmaculada-CMI
DESCRIPTION:Acción Participativa:\nEscenarios de relacionamiento con nuestros grupos de valor\, en donde se busca promover y destacar los servicios y oferta institucional de nuestra institución y posicionar la ESAP como excelencia educativa.  \nGrupos de valor:\nEstudiantes y Docentes de la institución \nContacto:\nsergio.zabala@esap.edu.co \nLugar:\nColegio María Inmaculada-CMI
URL:https://www.esap.edu.co/evento/feria-universitaria-colegio-maria-inmaculada-cmi/
CATEGORIES:Dirección de Atención al Ciduadano
END:VEVENT
BEGIN:VEVENT
DTSTART;VALUE=DATE:20230825
DTEND;VALUE=DATE:20230826
DTSTAMP:20260420T132053
CREATED:20230825T034933Z
LAST-MODIFIED:20230825T034933Z
UID:80112-1692921600-1693007999@www.esap.edu.co
SUMMARY:Feria Universitaria Maria Montessori
DESCRIPTION:Acción Participativa:\nEscenarios de relacionamiento con nuestros grupos de valor\, en donde se busca promover y destacar los servicios y oferta institucional de nuestra institución y posicionar la ESAP como excelencia educativa.  \nGrupos de valor:\nEstudiantes y Docentes de la institución \nContacto:\nsergio.zabala@esap.edu.co \nLugar:\nEscuela Normal superior María Montessori
URL:https://www.esap.edu.co/evento/feria-universitaria-maria-montessori/
CATEGORIES:Dirección de Atención al Ciduadano
END:VEVENT
BEGIN:VEVENT
DTSTART;VALUE=DATE:20230823
DTEND;VALUE=DATE:20230824
DTSTAMP:20260420T132053
CREATED:20230825T042606Z
LAST-MODIFIED:20230825T042606Z
UID:80126-1692748800-1692835199@www.esap.edu.co
SUMMARY:Sesión I: Capacitar en introducción Estructura del Estado\, Ley de Transparencia\, lucha contra la corrupción\, rutas de integridad y acceso libre a la información pública\, e Integridad
DESCRIPTION:Actividad:\nProceso de formación para ser Contralores Estudiantiles dirigidas por la Dirección de Atención al Ciudadano\, la Dirección de Capacitaciones de la ESAP en articulación con la Secretaría de Transparencia de Presidencia de la República\, la Contraloría General de República\, la Contraloría Distrital\, la Procuraduría General de la Nación\, el Ministerio de Educación Nacional\, la Secretaría de Educación Distrital y el Departamento Administrativo de la Función Púbica. \nAcción Participativa:\nCrear la figura de Contralor Estudiantil en el marco de la Ley 2195 de 2022\, para fomentar la participación ciudadana\, promover la integridad\, asegurar la transparencia\, la buena gestión pública y el buen uso de los recursos. \nGrupos de valor:\nEstudiantes ESAP \nContacto:\nemilce.franco@esap.edu.co
URL:https://www.esap.edu.co/evento/sesion-i-capacitar-en-introduccion-estructura-del-estado-ley-de-transparencia-lucha-contra-la-corrupcion-rutas-de-integridad-y-acceso-libre-a-la-informacion-publica-e-integridad/
CATEGORIES:Dirección de Atención al Ciduadano
END:VEVENT
BEGIN:VEVENT
DTSTART;VALUE=DATE:20230822
DTEND;VALUE=DATE:20230823
DTSTAMP:20260420T132053
CREATED:20230825T034339Z
LAST-MODIFIED:20230825T034339Z
UID:80110-1692662400-1692748799@www.esap.edu.co
SUMMARY:Feria de servicios
DESCRIPTION:Acción Participativa:\nEscenarios de relacionamiento con nuestros grupos de valor\, en donde se busca promover y destacar los servicios y oferta institucional de nuestra institución y posicionar la ESAP como excelencia educativa.  \nGrupos de valor:\nServidores públicos y contratistas de la entidad  \nContacto:\nsergio.zabala@esap.edu.co \nLugar:\nParques Nacionales Naturales de Colombia
URL:https://www.esap.edu.co/evento/feria-de-servicios/
CATEGORIES:Dirección de Atención al Ciduadano
END:VEVENT
END:VCALENDAR