BEGIN:VCALENDAR
VERSION:2.0
PRODID:-//Escuela superior de Administración Pública - ECPv6.15.13//NONSGML v1.0//EN
CALSCALE:GREGORIAN
METHOD:PUBLISH
X-WR-CALNAME:Escuela superior de Administración Pública
X-ORIGINAL-URL:https://www.esap.edu.co
X-WR-CALDESC:Eventos para Escuela superior de Administración Pública
REFRESH-INTERVAL;VALUE=DURATION:PT1H
X-Robots-Tag:noindex
X-PUBLISHED-TTL:PT1H
BEGIN:VTIMEZONE
TZID:America/New_York
BEGIN:DAYLIGHT
TZOFFSETFROM:-0500
TZOFFSETTO:-0400
TZNAME:EDT
DTSTART:20220313T070000
END:DAYLIGHT
BEGIN:STANDARD
TZOFFSETFROM:-0400
TZOFFSETTO:-0500
TZNAME:EST
DTSTART:20221106T060000
END:STANDARD
BEGIN:DAYLIGHT
TZOFFSETFROM:-0500
TZOFFSETTO:-0400
TZNAME:EDT
DTSTART:20230312T070000
END:DAYLIGHT
BEGIN:STANDARD
TZOFFSETFROM:-0400
TZOFFSETTO:-0500
TZNAME:EST
DTSTART:20231105T060000
END:STANDARD
BEGIN:DAYLIGHT
TZOFFSETFROM:-0500
TZOFFSETTO:-0400
TZNAME:EDT
DTSTART:20240310T070000
END:DAYLIGHT
BEGIN:STANDARD
TZOFFSETFROM:-0400
TZOFFSETTO:-0500
TZNAME:EST
DTSTART:20241103T060000
END:STANDARD
END:VTIMEZONE
BEGIN:VEVENT
DTSTART;VALUE=DATE:20230719
DTEND;VALUE=DATE:20230720
DTSTAMP:20260420T182207
CREATED:20230726T044537Z
LAST-MODIFIED:20230818T024339Z
UID:78865-1689724800-1689811199@www.esap.edu.co
SUMMARY:Jornada de Socialización de Diagnósticos en el marco de la formulación del Plan Decenal de Desarrollo Institucional
DESCRIPTION:
URL:https://www.esap.edu.co/evento/jornada-de-socializacion-de-diagnosticos/
LOCATION:ESAP Central\, Cl. 44 #53-37\, Bogotá\, Colombia
CATEGORIES:ESAPLab,Oficina de Planeación
END:VEVENT
BEGIN:VEVENT
DTSTART;TZID=America/New_York:20230713T100000
DTEND;TZID=America/New_York:20230713T130000
DTSTAMP:20260420T182207
CREATED:20230711T165127Z
LAST-MODIFIED:20230711T165929Z
UID:78174-1689242400-1689253200@www.esap.edu.co
SUMMARY:Cátedra de actualización para Egresados en temas de lo público y lo territorial
DESCRIPTION:Acción Participativa:\nAtención y conexión-educación continuada \nGrupos de valor:\nEgresados y comunidad académica en general \nContacto:\ngraduados@esap.edu.co
URL:https://www.esap.edu.co/evento/catedra-de-actualizacion-para-egresados-en-temas-de-lo-publico-y-lo-territorial/
CATEGORIES:Programa de Egresados,Subdirección Nacional Académica
END:VEVENT
BEGIN:VEVENT
DTSTART;VALUE=DATE:20230713
DTEND;VALUE=DATE:20230714
DTSTAMP:20260420T182207
CREATED:20230825T032426Z
LAST-MODIFIED:20230825T032426Z
UID:80104-1689206400-1689292799@www.esap.edu.co
SUMMARY:Feria educativa de la ruralidad en el marco del mercado campesino
DESCRIPTION:Acción Participativa:\nEscenarios de relacionamiento con nuestros grupos de valor\, en donde se busca promover y destacar los servicios y oferta institucional de nuestra institución y posicionar la ESAP como excelencia educativa.  \nGrupos de valor:\nEstudiantes y Docentes de la institución  \nContacto:\nsergio.zabala@esap.edu.co \nLugar:\nColegio Rural José Celestio Mutis
URL:https://www.esap.edu.co/evento/feria-educativa-de-la-ruralidad-en-el-marco-del-mercado-campesino/
CATEGORIES:Dirección de Atención al Ciduadano
END:VEVENT
BEGIN:VEVENT
DTSTART;VALUE=DATE:20230708
DTEND;VALUE=DATE:20230709
DTSTAMP:20260420T182207
CREATED:20230825T032146Z
LAST-MODIFIED:20230825T032146Z
UID:80102-1688774400-1688860799@www.esap.edu.co
SUMMARY:Dia de la Santanderianidad
DESCRIPTION:Acción Participativa:\nEscenarios de relacionamiento con nuestros grupos de valor\, en donde se busca promover y destacar los servicios y oferta institucional de nuestra institución y posicionar la ESAP como excelencia educativa.  \nGrupos de valor:\nCiudadania en general  \nContacto:\nsergio.zabala@esap.edu.co \nLugar:\nCasa Santander
URL:https://www.esap.edu.co/evento/dia-de-la-santanderianidad/
CATEGORIES:Dirección de Atención al Ciduadano
END:VEVENT
BEGIN:VEVENT
DTSTART;VALUE=DATE:20230629
DTEND;VALUE=DATE:20230701
DTSTAMP:20260420T182207
CREATED:20230726T043817Z
LAST-MODIFIED:20230726T043817Z
UID:78862-1687996800-1688169599@www.esap.edu.co
SUMMARY:Territorialización Cultura del Servicio
DESCRIPTION:Acción Participativa:\nTerritorialización Cultura del Servicio \nGrupos de valor:\nServidores públicos y colaboradores ESAP \nContacto:\nnohora.correa@esap.edu.co
URL:https://www.esap.edu.co/evento/territorializacion-cultura-del-servicio-11/
LOCATION:ESAP Tunja
CATEGORIES:Dirección de Atención al Ciduadano
END:VEVENT
BEGIN:VEVENT
DTSTART;VALUE=DATE:20230629
DTEND;VALUE=DATE:20230630
DTSTAMP:20260420T182207
CREATED:20230711T170756Z
LAST-MODIFIED:20230711T170756Z
UID:78177-1687996800-1688083199@www.esap.edu.co
SUMMARY:Taller de co-creación espacios de participación
DESCRIPTION:Acción Participativa:\nIdentificación de interéses relacionados con participación con los estudiantes \nGrupos de valor:\nEstudiantes \nContacto:\nservicio.ciudadania@esap.edu.co\nadriana.nunez@esap.edu.co \nLugar: Presencial Sede Central Kiosco 2
URL:https://www.esap.edu.co/evento/taller-de-co-creacion-espacios-de-participacion/
LOCATION:ESAP Central\, Cl. 44 #53-37\, Bogotá\, Colombia
CATEGORIES:Dirección de Atención al Ciduadano
END:VEVENT
BEGIN:VEVENT
DTSTART;VALUE=DATE:20230622
DTEND;VALUE=DATE:20230624
DTSTAMP:20260420T182207
CREATED:20230726T043326Z
LAST-MODIFIED:20230726T043326Z
UID:78859-1687392000-1687564799@www.esap.edu.co
SUMMARY:Territorialización Cultura del Servicio
DESCRIPTION:Acción Participativa:\nTerritorialización Cultura del Servicio \nGrupos de valor:\nServidores públicos y colaboradores ESAP \nContacto:\nnohora.correa@esap.edu.co
URL:https://www.esap.edu.co/evento/territorializacion-cultura-del-servicio-10/
LOCATION:ESAP Neiva
CATEGORIES:Dirección de Atención al Ciduadano
END:VEVENT
BEGIN:VEVENT
DTSTART;VALUE=DATE:20230621
DTEND;VALUE=DATE:20230622
DTSTAMP:20260420T182207
CREATED:20230705T201939Z
LAST-MODIFIED:20230705T201939Z
UID:77762-1687305600-1687391999@www.esap.edu.co
SUMMARY:Feria Universitaria DANE 2023
DESCRIPTION:Acción Participativa:\nEscenarios de relacionamiento con nuestros grupos de valor\, en donde se busca promover y destacar los servicios y oferta institucional de nuestra institución y posicionar la ESAP como excelencia educativa \nGrupos de valor:\nServidores públicos y contratistas del DANE \nLugar:\nDepartamento Administrativo Nacional de Estadística-DANE Sede territorial Bogotá D.C.  \nContacto:\nsergio.zabala@esap.edu.co \nRegistro: Pendiente
URL:https://www.esap.edu.co/evento/feria-universitaria-dane-2023-2/
CATEGORIES:Dirección de Atención al Ciduadano
END:VEVENT
BEGIN:VEVENT
DTSTART;VALUE=DATE:20230615
DTEND;VALUE=DATE:20230616
DTSTAMP:20260420T182207
CREATED:20230705T201444Z
LAST-MODIFIED:20230705T201444Z
UID:77760-1686787200-1686873599@www.esap.edu.co
SUMMARY:Feria Universitaria CEDID Cuidad Bolivar
DESCRIPTION:Acción Participativa:\nEscenarios de relacionamiento con nuestros grupos de valor\, en donde se busca promover y destacar los servicios y oferta institucional de nuestra institución y posicionar la ESAP como excelencia educativa \nGrupos de valor:\nEstudiantes y Docentes del CEDID Ciudad Bolívar \nLugar:\nColegio CEDID Ciudad Bolivar  \nContacto:\nsergio.zabala@esap.edu.co \nRegistro: Pendiente
URL:https://www.esap.edu.co/evento/feria-universitaria-cedid-cuidad-bolivar/
CATEGORIES:Dirección de Atención al Ciduadano
END:VEVENT
BEGIN:VEVENT
DTSTART;VALUE=DATE:20230614
DTEND;VALUE=DATE:20230615
DTSTAMP:20260420T182207
CREATED:20230616T034305Z
LAST-MODIFIED:20230616T034305Z
UID:76767-1686700800-1686787199@www.esap.edu.co
SUMMARY:Taller de orientación para la presentación de las soluciones por parte del equipo del Laboratorio de Innovación
DESCRIPTION:Acción Participativa:\nConcurso Voces por La Transparencia\nFomentar la participación ciudadana y el diálogo constructivo en torno a la Transparencia y la Ética Pública y promover la construcción colectiva de soluciones innovadoras y prácticas para mejorar la transparencia\, la integridad y el relacionamiento de la ESAP con los grupos de valor en la lucha contra la corrupción. \nGrupos de valor:\nEstudiantes\nEgresados\nGraduados\nDocentes\nOrganizaciones Sindicales\nPadres de familia\nPersonal administrativo y directivo  \nContacto:\noficina.planeacion@esap.edu.co \nRegistro:\nhttps://forms.office.com/r/v6dPacXyF5
URL:https://www.esap.edu.co/evento/taller-de-orientacion-del-laboratorio-de-innovacion/
LOCATION:ESAP Central\, Cl. 44 #53-37\, Bogotá\, Colombia
CATEGORIES:Dirección de Atención al Ciduadano,Dirección de Fortalecimiento y Apoyo a la Gestión Estatal,Dirección de Talento Humano,Laboratorio de innovación,Oficina de Planeación
END:VEVENT
BEGIN:VEVENT
DTSTART;VALUE=DATE:20230609
DTEND;VALUE=DATE:20230610
DTSTAMP:20260420T182207
CREATED:20230705T200529Z
LAST-MODIFIED:20230705T201212Z
UID:77757-1686268800-1686355199@www.esap.edu.co
SUMMARY:Feria Universitaria For You
DESCRIPTION:Acción Participativa:\nEscenarios de relacionamiento con nuestros grupos de valor\, en donde se busca promover y destacar los servicios y oferta institucional de nuestra institución y posicionar la ESAP como excelencia educativa \nGrupos de valor:\nEstudiantes y Docentes de la institución \nLugar:\nColegio Santo Domingo Bilingüe-CSDB \nContacto:\nsergio.zabala@esap.edu.co \nRegistro: Pendiente
URL:https://www.esap.edu.co/evento/feria-universitaria-for-you/
CATEGORIES:Dirección de Atención al Ciduadano
END:VEVENT
BEGIN:VEVENT
DTSTART;VALUE=DATE:20230608
DTEND;VALUE=DATE:20230610
DTSTAMP:20260420T182207
CREATED:20230726T042639Z
LAST-MODIFIED:20230726T042639Z
UID:78856-1686182400-1686355199@www.esap.edu.co
SUMMARY:Territorialización Cultura del Servicio
DESCRIPTION:Acción Participativa:\nTerritorialización Cultura del Servicio \nGrupos de valor:\nServidores públicos y colaboradores ESAP \nContacto:\nnohora.correa@esap.edu.co
URL:https://www.esap.edu.co/evento/territorializacion-cultura-del-servicio-9/
LOCATION:ESAP Popayán
CATEGORIES:Dirección de Atención al Ciduadano
END:VEVENT
BEGIN:VEVENT
DTSTART;VALUE=DATE:20230606
DTEND;VALUE=DATE:20230715
DTSTAMP:20260420T182207
CREATED:20230616T033757Z
LAST-MODIFIED:20230705T195734Z
UID:76765-1686009600-1689379199@www.esap.edu.co
SUMMARY:Concurso Voces por La Transparencia
DESCRIPTION:Acción Participativa:\nFomentar la participación ciudadana y el diálogo constructivo en torno a la Transparencia y la Ética Pública y promover la construcción colectiva de soluciones innovadoras y prácticas para mejorar la transparencia\, la integridad y el relacionamiento de la ESAP con los grupos de valor en la lucha contra la corrupción. \nActividad: \n\nPresentación de soluciones\nPostulación de buenas prácticas e ideas innovadoras.\nCategoría A: Soluciones para fortalecer nuestro compromiso con la\ntransparencia.\nCategoría B: Soluciones para fortalecer la integridad.\nCategoría C: Soluciones para fortalecer el relacionamiento con la ciudadanía y\ngrupos de valor.\n\nBases del concurso disponibles en el siguiente enlace:\nhttps://esapedu.sharepoint.com/:b:/s/IntraESAP/ES7FHbsyWv1JsBFkBZTsxqMBgrgjfxDjgNiRxf3Ny00BiQ?e=TD1cHa \nGrupos de valor:\nEstudiantes\nEgresados\nGraduados\nDocentes\nOrganizaciones Sindicales\nPadres de familia\nPersonal administrativo y directivo \nContacto:\noficina.planeacion@esap.edu.co \nRegistro:\nhttps://forms.office.com/r/v6dPacXyF5
URL:https://www.esap.edu.co/evento/concurso-voces-por-la-transparencia/
CATEGORIES:Dirección de Atención al Ciduadano,Dirección de Fortalecimiento y Apoyo a la Gestión Estatal,Dirección de Talento Humano,Laboratorio de innovación,Oficina de Planeación
END:VEVENT
BEGIN:VEVENT
DTSTART;VALUE=DATE:20230602
DTEND;VALUE=DATE:20230603
DTSTAMP:20260420T182207
CREATED:20230614T042944Z
LAST-MODIFIED:20230614T043017Z
UID:76460-1685664000-1685750399@www.esap.edu.co
SUMMARY:Taller de participación juvenil
DESCRIPTION:Acción Participativa:\nRealizar la implementación participativa del piloto Escuela Móvil de Formación Político- Administrativa para la Mediación Intercultural – EMMIC\, con el propósito de fortalecer capacidades para la toma de decisiones sobre el proyecto de vida despúes del colegio con familias\, docentes y estudiantes NARP de los grados 10 y 11 del Instituto Politécnico La Milagrosa de Puerto Tejada Cauca. \nGrupos de valor:\nEstudiantes grado 10 y 11\, familias\, Docentes\, Población NARP del Instituto Politécnico La Milagrosa Puerto Tejada \nContacto:\ngerman.molina@esap.edu.co
URL:https://www.esap.edu.co/evento/taller-de-participacion-juvenil/
CATEGORIES:Coordinación Académica,Dirección de Atención al Ciduadano,Dirección Territorial Cauca,Procesos Étnicos e Interculturales
END:VEVENT
BEGIN:VEVENT
DTSTART;VALUE=DATE:20230601
DTEND;VALUE=DATE:20230603
DTSTAMP:20260420T182207
CREATED:20230726T042431Z
LAST-MODIFIED:20230726T042431Z
UID:78853-1685577600-1685750399@www.esap.edu.co
SUMMARY:Territorialización Cultura del Servicio
DESCRIPTION:Acción Participativa:\nTerritorialización Cultura del Servicio \nGrupos de valor:\nServidores públicos y colaboradores ESAP \nContacto:\nnohora.correa@esap.edu.co
URL:https://www.esap.edu.co/evento/territorializacion-cultura-del-servicio-8/
LOCATION:ESAP Cali
CATEGORIES:Dirección de Atención al Ciduadano
END:VEVENT
BEGIN:VEVENT
DTSTART;VALUE=DATE:20230601
DTEND;VALUE=DATE:20230602
DTSTAMP:20260420T182207
CREATED:20230616T031917Z
LAST-MODIFIED:20230616T031917Z
UID:76756-1685577600-1685663999@www.esap.edu.co
SUMMARY:Socialización con estudiantes ESAP propuesta para la racionalización y simplificación en lenguaje claro del trámite certificados y constancias de estudios
DESCRIPTION:Acción Participativa:\nApoyar actividades para la simplificación de trámites\, documentos a lenguaje claro con participación ciudadana. \nGrupos de valor:\nEstudiantes ESAP \nContacto:\ncarlos.uribe@esap.edu.co\nservicio.ciudadania@esap.edu.co \nRegistro:\nhttps://forms.office.com/r/UQ3eFpzxiC
URL:https://www.esap.edu.co/evento/socializacion-con-estudiantes-esap-propuesta-para-la-racionalizacion/
LOCATION:Salón Aberto lleras – ESAP Central\, Cl. 44 #53-37\, Bogotá\, Colombia
CATEGORIES:Dirección de Atención al Ciduadano
END:VEVENT
BEGIN:VEVENT
DTSTART;VALUE=DATE:20230530
DTEND;VALUE=DATE:20230531
DTSTAMP:20260420T182207
CREATED:20230616T030945Z
LAST-MODIFIED:20230616T030945Z
UID:76752-1685404800-1685491199@www.esap.edu.co
SUMMARY:Sesión III de trabajo para formular participativamente la figura de contralor estudiantil
DESCRIPTION:Acción Participativa:\nFormular participativamente la figura de contralor estudiantil\, que defina lineamientos\, actividades y esquemas para la implementación del control social en la ESAP\, en colaboración con líderes estudiantiles de las sede central y sedes territoriales de la ESAP\, la Secretaria de Transparencia de la Presidencia de la República y entidades nacionales líderes en la materia\, para fomentar la participación ciudadana\, promover la integridad\, asegurar la transparencia\, la buena gestión pública y el buen uso de los recursos. \nGrupos de valor:\nLíderes estudiantiles ESAP \nContacto:\nemilce.franco@esap.edu.co\nservicio.ciudadania@esap.edu.co \n 
URL:https://www.esap.edu.co/evento/sesion-iii-de-trabajo-para-formular-participativamente-la-figura-de-contralor-estudiantil/
CATEGORIES:Dirección de Atención al Ciduadano
END:VEVENT
BEGIN:VEVENT
DTSTART;VALUE=DATE:20230526
DTEND;VALUE=DATE:20230527
DTSTAMP:20260420T182207
CREATED:20230616T032956Z
LAST-MODIFIED:20230616T032956Z
UID:76763-1685059200-1685145599@www.esap.edu.co
SUMMARY:Mesa de fortalecimiento  Protocolo de Prevención\, detección y atención de VBG - Acciones para la prevención
DESCRIPTION:Acción Participativa:\nActualización Protocolo de Prevención\, Detección\, Atención de violencias y cualquier tipo de discriminación basadas en género. \nGrupos de valor:\nEstudiantes ESAP\nServidores y colaboradores públicos ESAP \nContacto:\nlaura.castrillon@esap.edu.co \nRegistro:\nhttps://forms.office.com/Pages/ResponsePage.aspx?id=iANPshvm4EO557qlsNUSHnvDQE2_4v9IqAkUVwxJWi5UOEEwMEE1OURGRjlHMTc2SDRXRThHUjNaVy4u
URL:https://www.esap.edu.co/evento/vbg-acciones-para-la-prevencion/
CATEGORIES:Dirección de Bienestar Universitario
END:VEVENT
BEGIN:VEVENT
DTSTART;VALUE=DATE:20230525
DTEND;VALUE=DATE:20230527
DTSTAMP:20260420T182207
CREATED:20230726T042216Z
LAST-MODIFIED:20230726T042216Z
UID:78850-1684972800-1685145599@www.esap.edu.co
SUMMARY:Territorialización Cultura del Servicio
DESCRIPTION:Acción Participativa:\nTerritorialización Cultura del Servicio \nGrupos de valor:\nServidores públicos y colaboradores ESAP \nContacto:\nnohora.correa@esap.edu.co
URL:https://www.esap.edu.co/evento/territorializacion-cultura-del-servicio-7/
LOCATION:ESAP Villavicencio
CATEGORIES:Dirección de Atención al Ciduadano
END:VEVENT
BEGIN:VEVENT
DTSTART;VALUE=DATE:20230525
DTEND;VALUE=DATE:20230526
DTSTAMP:20260420T182207
CREATED:20230705T200414Z
LAST-MODIFIED:20230705T201329Z
UID:77755-1684972800-1685059199@www.esap.edu.co
SUMMARY:Feria Universitaria Mintrabajo 2024
DESCRIPTION:Acción Participativa:\nEscenarios de relacionamiento con nuestros grupos de valor\, en donde se busca promover y destacar los servicios y oferta institucional de nuestra institución y posicionar la ESAP como excelencia educativa \nGrupos de valor:\nMinisterio de Trabajo-Mintrabajo Sede principal  \nLugar:\nDepartamento Administrativo Nacional de Estadística-DANE Sede principal  \nContacto:\nsergio.zabala@esap.edu.co \nRegistro: Pendiente
URL:https://www.esap.edu.co/evento/feria-universitaria-mintrabajo-2024/
CATEGORIES:Dirección de Atención al Ciduadano
END:VEVENT
BEGIN:VEVENT
DTSTART;VALUE=DATE:20230519
DTEND;VALUE=DATE:20230520
DTSTAMP:20260420T182207
CREATED:20230616T032841Z
LAST-MODIFIED:20230616T032841Z
UID:76761-1684454400-1684540799@www.esap.edu.co
SUMMARY:Mesa de fortalecimiento  Protocolo de Prevención\, detección y atención de VBG - Ruta de atención a los casos
DESCRIPTION:Acción Participativa:\nActualización Protocolo de Prevención\, Detección\, Atención de violencias y cualquier tipo de discriminación basadas en género. \nGrupos de valor:\nEstudiantes ESAP\nServidores y colaboradores públicos ESAP \nContacto:\nlaura.castrillon@esap.edu.co \nRegistro:\nhttps://forms.office.com/Pages/ResponsePage.aspx?id=iANPshvm4EO557qlsNUSHnvDQE2_4v9IqAkUVwxJWi5UOEEwMEE1OURGRjlHMTc2SDRXRThHUjNaVy4u
URL:https://www.esap.edu.co/evento/vbg-ruta-de-atencion-a-los-casos/
CATEGORIES:Dirección de Bienestar Universitario
END:VEVENT
BEGIN:VEVENT
DTSTART;VALUE=DATE:20230518
DTEND;VALUE=DATE:20230520
DTSTAMP:20260420T182207
CREATED:20230726T042000Z
LAST-MODIFIED:20230726T042000Z
UID:78847-1684368000-1684540799@www.esap.edu.co
SUMMARY:Territorialización Cultura del Servicio
DESCRIPTION:Acción Participativa:\nTerritorialización Cultura del Servicio \nGrupos de valor:\nServidores públicos y colaboradores ESAP \nContacto:\nnohora.correa@esap.edu.co
URL:https://www.esap.edu.co/evento/territorializacion-cultura-del-servicio-6/
LOCATION:ESAP Ibague
CATEGORIES:Dirección de Atención al Ciduadano
END:VEVENT
BEGIN:VEVENT
DTSTART;VALUE=DATE:20230518
DTEND;VALUE=DATE:20230519
DTSTAMP:20260420T182207
CREATED:20230705T200313Z
LAST-MODIFIED:20230705T200313Z
UID:77753-1684368000-1684454399@www.esap.edu.co
SUMMARY:Feria Universitaria DANE 2023
DESCRIPTION:Acción Participativa:\nEscenarios de relacionamiento con nuestros grupos de valor\, en donde se busca promover y destacar los servicios y oferta institucional de nuestra institución y posicionar la ESAP como excelencia educativa \nGrupos de valor:\nServidores públicos y contratistas del DANE \nLugar:\nDepartamento Administrativo Nacional de Estadística-DANE Sede principal  \nContacto:\nsergio.zabala@esap.edu.co \nRegistro: Pendiente
URL:https://www.esap.edu.co/evento/feria-universitaria-dane-2023/
CATEGORIES:Dirección de Atención al Ciduadano
END:VEVENT
BEGIN:VEVENT
DTSTART;VALUE=DATE:20230516
DTEND;VALUE=DATE:20230517
DTSTAMP:20260420T182207
CREATED:20230616T025432Z
LAST-MODIFIED:20230616T025432Z
UID:76741-1684195200-1684281599@www.esap.edu.co
SUMMARY:Capacitación diálogo social para el control social
DESCRIPTION:Acción Participativa:\nCapacitación en participación ciudadana\, control social\, guía para el diálogo social entre control social y el sistema de control interno. \nGrupos de valor:\nServidores y colaboradores públicos ESAP \nContacto:\nadriana.nunez@esap.edu.co\nservicio.ciudadania@esap.edu.co
URL:https://www.esap.edu.co/evento/capacitacion-dialogo-social-para-el-control-social/
CATEGORIES:Dirección de Atención al Ciduadano
END:VEVENT
BEGIN:VEVENT
DTSTART;VALUE=DATE:20230512
DTEND;VALUE=DATE:20230513
DTSTAMP:20260420T182207
CREATED:20230616T032723Z
LAST-MODIFIED:20230616T032723Z
UID:76759-1683849600-1683935999@www.esap.edu.co
SUMMARY:Mesa de fortalecimiento  Protocolo de Prevención\, detección y atención de VBG - Exploración - Diagnóstico preliminar de VBG
DESCRIPTION:Acción Participativa:\nActualización Protocolo de Prevención\, Detección\, Atención de violencias y cualquier tipo de discriminación basadas en género. \nGrupos de valor:\nEstudiantes ESAP\nServidores y colaboradores públicos ESAP \nContacto:\nlaura.castrillon@esap.edu.co \nRegistro:\nhttps://forms.office.com/Pages/ResponsePage.aspx?id=iANPshvm4EO557qlsNUSHnvDQE2_4v9IqAkUVwxJWi5UOEEwMEE1OURGRjlHMTc2SDRXRThHUjNaVy4u
URL:https://www.esap.edu.co/evento/diagnostico-preliminar-de-vbg/
CATEGORIES:Dirección de Bienestar Universitario
END:VEVENT
BEGIN:VEVENT
DTSTART;VALUE=DATE:20230503
DTEND;VALUE=DATE:20230504
DTSTAMP:20260420T182207
CREATED:20230616T030837Z
LAST-MODIFIED:20230616T030837Z
UID:76750-1683072000-1683158399@www.esap.edu.co
SUMMARY:Sesión II de trabajo para formular participativamente la figura de contralor estudiantil
DESCRIPTION:Acción Participativa:\nFormular participativamente la figura de contralor estudiantil\, que defina lineamientos\, actividades y esquemas para la implementación del control social en la ESAP\, en colaboración con líderes estudiantiles de las sede central y sedes territoriales de la ESAP\, la Secretaria de Transparencia de la Presidencia de la República y entidades nacionales líderes en la materia\, para fomentar la participación ciudadana\, promover la integridad\, asegurar la transparencia\, la buena gestión pública y el buen uso de los recursos. \nGrupos de valor:\nLíderes estudiantiles ESAP \nContacto:\nemilce.franco@esap.edu.co\nservicio.ciudadania@esap.edu.co \n 
URL:https://www.esap.edu.co/evento/sesion-ii-de-trabajo-para-formular-participativamente-la-figura-de-contralor-estudiantil/
CATEGORIES:Dirección de Atención al Ciduadano
END:VEVENT
BEGIN:VEVENT
DTSTART;VALUE=DATE:20230424
DTEND;VALUE=DATE:20230425
DTSTAMP:20260420T182207
CREATED:20230616T030725Z
LAST-MODIFIED:20230616T030725Z
UID:76748-1682294400-1682380799@www.esap.edu.co
SUMMARY:Sesión I de trabajo para formular participativamente la figura de contralor estudiantil
DESCRIPTION:Acción Participativa:\nFormular participativamente la figura de contralor estudiantil\, que defina lineamientos\, actividades y esquemas para la implementación del control social en la ESAP\, en colaboración con líderes estudiantiles de las sede central y sedes territoriales de la ESAP\, la Secretaria de Transparencia de la Presidencia de la República y entidades nacionales líderes en la materia\, para fomentar la participación ciudadana\, promover la integridad\, asegurar la transparencia\, la buena gestión pública y el buen uso de los recursos. \nGrupos de valor:\nLíderes estudiantiles ESAP \nContacto:\nemilce.franco@esap.edu.co\nservicio.ciudadania@esap.edu.co \n 
URL:https://www.esap.edu.co/evento/sesion-i-de-trabajo-para-formular-participativamente-la-figura-de-contralor-estudiantil/
CATEGORIES:Dirección de Atención al Ciduadano
END:VEVENT
BEGIN:VEVENT
DTSTART;VALUE=DATE:20230421
DTEND;VALUE=DATE:20230423
DTSTAMP:20260420T182207
CREATED:20230726T041456Z
LAST-MODIFIED:20230726T041456Z
UID:78844-1682035200-1682207999@www.esap.edu.co
SUMMARY:Territorialización Cultura del Servicio
DESCRIPTION:Acción Participativa:\nTerritorialización Cultura del Servicio \nGrupos de valor:\nServidores públicos y colaboradores ESAP \nContacto:\nnohora.correa@esap.edu.co
URL:https://www.esap.edu.co/evento/territorializacion-cultura-del-servicio-5/
LOCATION:ESAP Bucaramanga
CATEGORIES:Dirección de Atención al Ciduadano
END:VEVENT
BEGIN:VEVENT
DTSTART;TZID=America/New_York:20230409T080000
DTEND;TZID=America/New_York:20230409T170000
DTSTAMP:20260420T182207
CREATED:20231005T235912Z
LAST-MODIFIED:20231005T235912Z
UID:81782-1681027200-1681059600@www.esap.edu.co
SUMMARY:Feria de servicios
DESCRIPTION:Acción Participativa:Escenarios de relacionamiento con nuestros grupos de valor- en donde se busca promover y destacar los servicios y oferta institucionalGrupos de valorServidores públicos y contratistas de la entidadContactosergio.zabala@esap.edu.co
URL:https://www.esap.edu.co/evento/feria-de-servicios-2/
CATEGORIES:Dirección de Atención al Ciduadano
END:VEVENT
BEGIN:VEVENT
DTSTART;VALUE=DATE:20230328
DTEND;VALUE=DATE:20230329
DTSTAMP:20260420T182207
CREATED:20230616T025047Z
LAST-MODIFIED:20230616T025047Z
UID:76739-1679961600-1680047999@www.esap.edu.co
SUMMARY:Capacitación participación ciudadana en el ciclo de la gestión pública
DESCRIPTION:Acción Participativa:\nCapacitación en participación ciudadana\, control social\, guía para el diálogo social entre control social y el sistema de control interno. \nGrupos de valor:\nServidores y colaboradores públicos ESAP de las Direcciones Territoriales \nContacto:\nadriana.nunez@esap.edu.co\nservicio.ciudadania@esap.edu.co
URL:https://www.esap.edu.co/evento/capacitacion-participacion-ciudadana-en-el-ciclo-de-la-gestion-publica-2/
CATEGORIES:Dirección de Atención al Ciduadano
END:VEVENT
END:VCALENDAR