BEGIN:VCALENDAR
VERSION:2.0
PRODID:-//Escuela superior de Administración Pública - ECPv6.15.13//NONSGML v1.0//EN
CALSCALE:GREGORIAN
METHOD:PUBLISH
X-ORIGINAL-URL:https://www.esap.edu.co
X-WR-CALDESC:Eventos para Escuela superior de Administración Pública
REFRESH-INTERVAL;VALUE=DURATION:PT1H
X-Robots-Tag:noindex
X-PUBLISHED-TTL:PT1H
BEGIN:VTIMEZONE
TZID:America/New_York
BEGIN:DAYLIGHT
TZOFFSETFROM:-0500
TZOFFSETTO:-0400
TZNAME:EDT
DTSTART:19690427T070000
END:DAYLIGHT
BEGIN:STANDARD
TZOFFSETFROM:-0400
TZOFFSETTO:-0500
TZNAME:EST
DTSTART:19691026T060000
END:STANDARD
BEGIN:DAYLIGHT
TZOFFSETFROM:-0500
TZOFFSETTO:-0400
TZNAME:EDT
DTSTART:19700426T070000
END:DAYLIGHT
BEGIN:STANDARD
TZOFFSETFROM:-0400
TZOFFSETTO:-0500
TZNAME:EST
DTSTART:19701025T060000
END:STANDARD
BEGIN:DAYLIGHT
TZOFFSETFROM:-0500
TZOFFSETTO:-0400
TZNAME:EDT
DTSTART:19710425T070000
END:DAYLIGHT
BEGIN:STANDARD
TZOFFSETFROM:-0400
TZOFFSETTO:-0500
TZNAME:EST
DTSTART:19711031T060000
END:STANDARD
BEGIN:DAYLIGHT
TZOFFSETFROM:-0500
TZOFFSETTO:-0400
TZNAME:EDT
DTSTART:19720430T070000
END:DAYLIGHT
BEGIN:STANDARD
TZOFFSETFROM:-0400
TZOFFSETTO:-0500
TZNAME:EST
DTSTART:19721029T060000
END:STANDARD
BEGIN:DAYLIGHT
TZOFFSETFROM:-0500
TZOFFSETTO:-0400
TZNAME:EDT
DTSTART:19730429T070000
END:DAYLIGHT
BEGIN:STANDARD
TZOFFSETFROM:-0400
TZOFFSETTO:-0500
TZNAME:EST
DTSTART:19731028T060000
END:STANDARD
BEGIN:DAYLIGHT
TZOFFSETFROM:-0500
TZOFFSETTO:-0400
TZNAME:EDT
DTSTART:19740106T070000
END:DAYLIGHT
BEGIN:STANDARD
TZOFFSETFROM:-0400
TZOFFSETTO:-0500
TZNAME:EST
DTSTART:19741027T060000
END:STANDARD
BEGIN:DAYLIGHT
TZOFFSETFROM:-0500
TZOFFSETTO:-0400
TZNAME:EDT
DTSTART:19750223T070000
END:DAYLIGHT
BEGIN:STANDARD
TZOFFSETFROM:-0400
TZOFFSETTO:-0500
TZNAME:EST
DTSTART:19751026T060000
END:STANDARD
BEGIN:DAYLIGHT
TZOFFSETFROM:-0500
TZOFFSETTO:-0400
TZNAME:EDT
DTSTART:19760425T070000
END:DAYLIGHT
BEGIN:STANDARD
TZOFFSETFROM:-0400
TZOFFSETTO:-0500
TZNAME:EST
DTSTART:19761031T060000
END:STANDARD
BEGIN:DAYLIGHT
TZOFFSETFROM:-0500
TZOFFSETTO:-0400
TZNAME:EDT
DTSTART:19770424T070000
END:DAYLIGHT
BEGIN:STANDARD
TZOFFSETFROM:-0400
TZOFFSETTO:-0500
TZNAME:EST
DTSTART:19771030T060000
END:STANDARD
BEGIN:DAYLIGHT
TZOFFSETFROM:-0500
TZOFFSETTO:-0400
TZNAME:EDT
DTSTART:19780430T070000
END:DAYLIGHT
BEGIN:STANDARD
TZOFFSETFROM:-0400
TZOFFSETTO:-0500
TZNAME:EST
DTSTART:19781029T060000
END:STANDARD
BEGIN:DAYLIGHT
TZOFFSETFROM:-0500
TZOFFSETTO:-0400
TZNAME:EDT
DTSTART:19790429T070000
END:DAYLIGHT
BEGIN:STANDARD
TZOFFSETFROM:-0400
TZOFFSETTO:-0500
TZNAME:EST
DTSTART:19791028T060000
END:STANDARD
BEGIN:DAYLIGHT
TZOFFSETFROM:-0500
TZOFFSETTO:-0400
TZNAME:EDT
DTSTART:19800427T070000
END:DAYLIGHT
BEGIN:STANDARD
TZOFFSETFROM:-0400
TZOFFSETTO:-0500
TZNAME:EST
DTSTART:19801026T060000
END:STANDARD
BEGIN:DAYLIGHT
TZOFFSETFROM:-0500
TZOFFSETTO:-0400
TZNAME:EDT
DTSTART:19810426T070000
END:DAYLIGHT
BEGIN:STANDARD
TZOFFSETFROM:-0400
TZOFFSETTO:-0500
TZNAME:EST
DTSTART:19811025T060000
END:STANDARD
BEGIN:DAYLIGHT
TZOFFSETFROM:-0500
TZOFFSETTO:-0400
TZNAME:EDT
DTSTART:19820425T070000
END:DAYLIGHT
BEGIN:STANDARD
TZOFFSETFROM:-0400
TZOFFSETTO:-0500
TZNAME:EST
DTSTART:19821031T060000
END:STANDARD
BEGIN:DAYLIGHT
TZOFFSETFROM:-0500
TZOFFSETTO:-0400
TZNAME:EDT
DTSTART:19830424T070000
END:DAYLIGHT
BEGIN:STANDARD
TZOFFSETFROM:-0400
TZOFFSETTO:-0500
TZNAME:EST
DTSTART:19831030T060000
END:STANDARD
BEGIN:DAYLIGHT
TZOFFSETFROM:-0500
TZOFFSETTO:-0400
TZNAME:EDT
DTSTART:19840429T070000
END:DAYLIGHT
BEGIN:STANDARD
TZOFFSETFROM:-0400
TZOFFSETTO:-0500
TZNAME:EST
DTSTART:19841028T060000
END:STANDARD
BEGIN:DAYLIGHT
TZOFFSETFROM:-0500
TZOFFSETTO:-0400
TZNAME:EDT
DTSTART:19850428T070000
END:DAYLIGHT
BEGIN:STANDARD
TZOFFSETFROM:-0400
TZOFFSETTO:-0500
TZNAME:EST
DTSTART:19851027T060000
END:STANDARD
BEGIN:DAYLIGHT
TZOFFSETFROM:-0500
TZOFFSETTO:-0400
TZNAME:EDT
DTSTART:19860427T070000
END:DAYLIGHT
BEGIN:STANDARD
TZOFFSETFROM:-0400
TZOFFSETTO:-0500
TZNAME:EST
DTSTART:19861026T060000
END:STANDARD
BEGIN:DAYLIGHT
TZOFFSETFROM:-0500
TZOFFSETTO:-0400
TZNAME:EDT
DTSTART:19870405T070000
END:DAYLIGHT
BEGIN:STANDARD
TZOFFSETFROM:-0400
TZOFFSETTO:-0500
TZNAME:EST
DTSTART:19871025T060000
END:STANDARD
BEGIN:DAYLIGHT
TZOFFSETFROM:-0500
TZOFFSETTO:-0400
TZNAME:EDT
DTSTART:19880403T070000
END:DAYLIGHT
BEGIN:STANDARD
TZOFFSETFROM:-0400
TZOFFSETTO:-0500
TZNAME:EST
DTSTART:19881030T060000
END:STANDARD
BEGIN:DAYLIGHT
TZOFFSETFROM:-0500
TZOFFSETTO:-0400
TZNAME:EDT
DTSTART:19890402T070000
END:DAYLIGHT
BEGIN:STANDARD
TZOFFSETFROM:-0400
TZOFFSETTO:-0500
TZNAME:EST
DTSTART:19891029T060000
END:STANDARD
BEGIN:DAYLIGHT
TZOFFSETFROM:-0500
TZOFFSETTO:-0400
TZNAME:EDT
DTSTART:19900401T070000
END:DAYLIGHT
BEGIN:STANDARD
TZOFFSETFROM:-0400
TZOFFSETTO:-0500
TZNAME:EST
DTSTART:19901028T060000
END:STANDARD
BEGIN:DAYLIGHT
TZOFFSETFROM:-0500
TZOFFSETTO:-0400
TZNAME:EDT
DTSTART:19910407T070000
END:DAYLIGHT
BEGIN:STANDARD
TZOFFSETFROM:-0400
TZOFFSETTO:-0500
TZNAME:EST
DTSTART:19911027T060000
END:STANDARD
BEGIN:DAYLIGHT
TZOFFSETFROM:-0500
TZOFFSETTO:-0400
TZNAME:EDT
DTSTART:19920405T070000
END:DAYLIGHT
BEGIN:STANDARD
TZOFFSETFROM:-0400
TZOFFSETTO:-0500
TZNAME:EST
DTSTART:19921025T060000
END:STANDARD
BEGIN:DAYLIGHT
TZOFFSETFROM:-0500
TZOFFSETTO:-0400
TZNAME:EDT
DTSTART:19930404T070000
END:DAYLIGHT
BEGIN:STANDARD
TZOFFSETFROM:-0400
TZOFFSETTO:-0500
TZNAME:EST
DTSTART:19931031T060000
END:STANDARD
BEGIN:DAYLIGHT
TZOFFSETFROM:-0500
TZOFFSETTO:-0400
TZNAME:EDT
DTSTART:19940403T070000
END:DAYLIGHT
BEGIN:STANDARD
TZOFFSETFROM:-0400
TZOFFSETTO:-0500
TZNAME:EST
DTSTART:19941030T060000
END:STANDARD
BEGIN:DAYLIGHT
TZOFFSETFROM:-0500
TZOFFSETTO:-0400
TZNAME:EDT
DTSTART:19950402T070000
END:DAYLIGHT
BEGIN:STANDARD
TZOFFSETFROM:-0400
TZOFFSETTO:-0500
TZNAME:EST
DTSTART:19951029T060000
END:STANDARD
BEGIN:DAYLIGHT
TZOFFSETFROM:-0500
TZOFFSETTO:-0400
TZNAME:EDT
DTSTART:19960407T070000
END:DAYLIGHT
BEGIN:STANDARD
TZOFFSETFROM:-0400
TZOFFSETTO:-0500
TZNAME:EST
DTSTART:19961027T060000
END:STANDARD
BEGIN:DAYLIGHT
TZOFFSETFROM:-0500
TZOFFSETTO:-0400
TZNAME:EDT
DTSTART:19970406T070000
END:DAYLIGHT
BEGIN:STANDARD
TZOFFSETFROM:-0400
TZOFFSETTO:-0500
TZNAME:EST
DTSTART:19971026T060000
END:STANDARD
BEGIN:DAYLIGHT
TZOFFSETFROM:-0500
TZOFFSETTO:-0400
TZNAME:EDT
DTSTART:19980405T070000
END:DAYLIGHT
BEGIN:STANDARD
TZOFFSETFROM:-0400
TZOFFSETTO:-0500
TZNAME:EST
DTSTART:19981025T060000
END:STANDARD
BEGIN:DAYLIGHT
TZOFFSETFROM:-0500
TZOFFSETTO:-0400
TZNAME:EDT
DTSTART:19990404T070000
END:DAYLIGHT
BEGIN:STANDARD
TZOFFSETFROM:-0400
TZOFFSETTO:-0500
TZNAME:EST
DTSTART:19991031T060000
END:STANDARD
BEGIN:DAYLIGHT
TZOFFSETFROM:-0500
TZOFFSETTO:-0400
TZNAME:EDT
DTSTART:20000402T070000
END:DAYLIGHT
BEGIN:STANDARD
TZOFFSETFROM:-0400
TZOFFSETTO:-0500
TZNAME:EST
DTSTART:20001029T060000
END:STANDARD
BEGIN:DAYLIGHT
TZOFFSETFROM:-0500
TZOFFSETTO:-0400
TZNAME:EDT
DTSTART:20010401T070000
END:DAYLIGHT
BEGIN:STANDARD
TZOFFSETFROM:-0400
TZOFFSETTO:-0500
TZNAME:EST
DTSTART:20011028T060000
END:STANDARD
BEGIN:DAYLIGHT
TZOFFSETFROM:-0500
TZOFFSETTO:-0400
TZNAME:EDT
DTSTART:20020407T070000
END:DAYLIGHT
BEGIN:STANDARD
TZOFFSETFROM:-0400
TZOFFSETTO:-0500
TZNAME:EST
DTSTART:20021027T060000
END:STANDARD
BEGIN:DAYLIGHT
TZOFFSETFROM:-0500
TZOFFSETTO:-0400
TZNAME:EDT
DTSTART:20030406T070000
END:DAYLIGHT
BEGIN:STANDARD
TZOFFSETFROM:-0400
TZOFFSETTO:-0500
TZNAME:EST
DTSTART:20031026T060000
END:STANDARD
BEGIN:DAYLIGHT
TZOFFSETFROM:-0500
TZOFFSETTO:-0400
TZNAME:EDT
DTSTART:20040404T070000
END:DAYLIGHT
BEGIN:STANDARD
TZOFFSETFROM:-0400
TZOFFSETTO:-0500
TZNAME:EST
DTSTART:20041031T060000
END:STANDARD
BEGIN:DAYLIGHT
TZOFFSETFROM:-0500
TZOFFSETTO:-0400
TZNAME:EDT
DTSTART:20050403T070000
END:DAYLIGHT
BEGIN:STANDARD
TZOFFSETFROM:-0400
TZOFFSETTO:-0500
TZNAME:EST
DTSTART:20051030T060000
END:STANDARD
BEGIN:DAYLIGHT
TZOFFSETFROM:-0500
TZOFFSETTO:-0400
TZNAME:EDT
DTSTART:20060402T070000
END:DAYLIGHT
BEGIN:STANDARD
TZOFFSETFROM:-0400
TZOFFSETTO:-0500
TZNAME:EST
DTSTART:20061029T060000
END:STANDARD
BEGIN:DAYLIGHT
TZOFFSETFROM:-0500
TZOFFSETTO:-0400
TZNAME:EDT
DTSTART:20070311T070000
END:DAYLIGHT
BEGIN:STANDARD
TZOFFSETFROM:-0400
TZOFFSETTO:-0500
TZNAME:EST
DTSTART:20071104T060000
END:STANDARD
BEGIN:DAYLIGHT
TZOFFSETFROM:-0500
TZOFFSETTO:-0400
TZNAME:EDT
DTSTART:20080309T070000
END:DAYLIGHT
BEGIN:STANDARD
TZOFFSETFROM:-0400
TZOFFSETTO:-0500
TZNAME:EST
DTSTART:20081102T060000
END:STANDARD
BEGIN:DAYLIGHT
TZOFFSETFROM:-0500
TZOFFSETTO:-0400
TZNAME:EDT
DTSTART:20090308T070000
END:DAYLIGHT
BEGIN:STANDARD
TZOFFSETFROM:-0400
TZOFFSETTO:-0500
TZNAME:EST
DTSTART:20091101T060000
END:STANDARD
BEGIN:DAYLIGHT
TZOFFSETFROM:-0500
TZOFFSETTO:-0400
TZNAME:EDT
DTSTART:20100314T070000
END:DAYLIGHT
BEGIN:STANDARD
TZOFFSETFROM:-0400
TZOFFSETTO:-0500
TZNAME:EST
DTSTART:20101107T060000
END:STANDARD
BEGIN:DAYLIGHT
TZOFFSETFROM:-0500
TZOFFSETTO:-0400
TZNAME:EDT
DTSTART:20110313T070000
END:DAYLIGHT
BEGIN:STANDARD
TZOFFSETFROM:-0400
TZOFFSETTO:-0500
TZNAME:EST
DTSTART:20111106T060000
END:STANDARD
BEGIN:DAYLIGHT
TZOFFSETFROM:-0500
TZOFFSETTO:-0400
TZNAME:EDT
DTSTART:20120311T070000
END:DAYLIGHT
BEGIN:STANDARD
TZOFFSETFROM:-0400
TZOFFSETTO:-0500
TZNAME:EST
DTSTART:20121104T060000
END:STANDARD
BEGIN:DAYLIGHT
TZOFFSETFROM:-0500
TZOFFSETTO:-0400
TZNAME:EDT
DTSTART:20130310T070000
END:DAYLIGHT
BEGIN:STANDARD
TZOFFSETFROM:-0400
TZOFFSETTO:-0500
TZNAME:EST
DTSTART:20131103T060000
END:STANDARD
BEGIN:DAYLIGHT
TZOFFSETFROM:-0500
TZOFFSETTO:-0400
TZNAME:EDT
DTSTART:20140309T070000
END:DAYLIGHT
BEGIN:STANDARD
TZOFFSETFROM:-0400
TZOFFSETTO:-0500
TZNAME:EST
DTSTART:20141102T060000
END:STANDARD
BEGIN:DAYLIGHT
TZOFFSETFROM:-0500
TZOFFSETTO:-0400
TZNAME:EDT
DTSTART:20150308T070000
END:DAYLIGHT
BEGIN:STANDARD
TZOFFSETFROM:-0400
TZOFFSETTO:-0500
TZNAME:EST
DTSTART:20151101T060000
END:STANDARD
BEGIN:DAYLIGHT
TZOFFSETFROM:-0500
TZOFFSETTO:-0400
TZNAME:EDT
DTSTART:20160313T070000
END:DAYLIGHT
BEGIN:STANDARD
TZOFFSETFROM:-0400
TZOFFSETTO:-0500
TZNAME:EST
DTSTART:20161106T060000
END:STANDARD
BEGIN:DAYLIGHT
TZOFFSETFROM:-0500
TZOFFSETTO:-0400
TZNAME:EDT
DTSTART:20170312T070000
END:DAYLIGHT
BEGIN:STANDARD
TZOFFSETFROM:-0400
TZOFFSETTO:-0500
TZNAME:EST
DTSTART:20171105T060000
END:STANDARD
BEGIN:DAYLIGHT
TZOFFSETFROM:-0500
TZOFFSETTO:-0400
TZNAME:EDT
DTSTART:20180311T070000
END:DAYLIGHT
BEGIN:STANDARD
TZOFFSETFROM:-0400
TZOFFSETTO:-0500
TZNAME:EST
DTSTART:20181104T060000
END:STANDARD
BEGIN:DAYLIGHT
TZOFFSETFROM:-0500
TZOFFSETTO:-0400
TZNAME:EDT
DTSTART:20190310T070000
END:DAYLIGHT
BEGIN:STANDARD
TZOFFSETFROM:-0400
TZOFFSETTO:-0500
TZNAME:EST
DTSTART:20191103T060000
END:STANDARD
BEGIN:DAYLIGHT
TZOFFSETFROM:-0500
TZOFFSETTO:-0400
TZNAME:EDT
DTSTART:20200308T070000
END:DAYLIGHT
BEGIN:STANDARD
TZOFFSETFROM:-0400
TZOFFSETTO:-0500
TZNAME:EST
DTSTART:20201101T060000
END:STANDARD
BEGIN:DAYLIGHT
TZOFFSETFROM:-0500
TZOFFSETTO:-0400
TZNAME:EDT
DTSTART:20210314T070000
END:DAYLIGHT
BEGIN:STANDARD
TZOFFSETFROM:-0400
TZOFFSETTO:-0500
TZNAME:EST
DTSTART:20211107T060000
END:STANDARD
BEGIN:DAYLIGHT
TZOFFSETFROM:-0500
TZOFFSETTO:-0400
TZNAME:EDT
DTSTART:20220313T070000
END:DAYLIGHT
BEGIN:STANDARD
TZOFFSETFROM:-0400
TZOFFSETTO:-0500
TZNAME:EST
DTSTART:20221106T060000
END:STANDARD
BEGIN:DAYLIGHT
TZOFFSETFROM:-0500
TZOFFSETTO:-0400
TZNAME:EDT
DTSTART:20230312T070000
END:DAYLIGHT
BEGIN:STANDARD
TZOFFSETFROM:-0400
TZOFFSETTO:-0500
TZNAME:EST
DTSTART:20231105T060000
END:STANDARD
BEGIN:DAYLIGHT
TZOFFSETFROM:-0500
TZOFFSETTO:-0400
TZNAME:EDT
DTSTART:20240310T070000
END:DAYLIGHT
BEGIN:STANDARD
TZOFFSETFROM:-0400
TZOFFSETTO:-0500
TZNAME:EST
DTSTART:20241103T060000
END:STANDARD
BEGIN:DAYLIGHT
TZOFFSETFROM:-0500
TZOFFSETTO:-0400
TZNAME:EDT
DTSTART:20250309T070000
END:DAYLIGHT
BEGIN:STANDARD
TZOFFSETFROM:-0400
TZOFFSETTO:-0500
TZNAME:EST
DTSTART:20251102T060000
END:STANDARD
BEGIN:DAYLIGHT
TZOFFSETFROM:-0500
TZOFFSETTO:-0400
TZNAME:EDT
DTSTART:20260308T070000
END:DAYLIGHT
BEGIN:STANDARD
TZOFFSETFROM:-0400
TZOFFSETTO:-0500
TZNAME:EST
DTSTART:20261101T060000
END:STANDARD
END:VTIMEZONE
BEGIN:VEVENT
DTSTART;TZID=America/New_York:20260421T020428
DTEND;TZID=America/New_York:20250910T160000
DTSTAMP:20260421T020428
CREATED:20250909T171531Z
LAST-MODIFIED:20250909T171531Z
UID:113417-0-1757520000@www.esap.edu.co
SUMMARY:Semana de la Salud Integral: mente sana
DESCRIPTION:
URL:https://www.esap.edu.co/evento/semana-de-la-salud-integral-mente-sana-6/
END:VEVENT
BEGIN:VEVENT
DTSTART;TZID=America/New_York:20260421T020428
DTEND;TZID=America/New_York:20250909T090000
DTSTAMP:20260421T020428
CREATED:20250909T171517Z
LAST-MODIFIED:20250909T171517Z
UID:113416-0-1757408400@www.esap.edu.co
SUMMARY:Semana de la Salud Integral: mente sana
DESCRIPTION:
URL:https://www.esap.edu.co/evento/semana-de-la-salud-integral-mente-sana-5/
END:VEVENT
BEGIN:VEVENT
DTSTART;TZID=America/New_York:20260421T020428
DTEND;TZID=America/New_York:20250909T170000
DTSTAMP:20260421T020428
CREATED:20250909T171516Z
LAST-MODIFIED:20250909T171516Z
UID:113415-0-1757437200@www.esap.edu.co
SUMMARY:Semana de la Salud Integral: mente sana
DESCRIPTION:
URL:https://www.esap.edu.co/evento/semana-de-la-salud-integral-mente-sana-4/
END:VEVENT
BEGIN:VEVENT
DTSTART;TZID=America/New_York:20260421T020428
DTEND;TZID=America/New_York:20250909T120000
DTSTAMP:20260421T020428
CREATED:20250909T171515Z
LAST-MODIFIED:20250909T171515Z
UID:113414-0-1757419200@www.esap.edu.co
SUMMARY:Semana de la Salud Integral: mente sana
DESCRIPTION:
URL:https://www.esap.edu.co/evento/semana-de-la-salud-integral-mente-sana-3/
END:VEVENT
BEGIN:VEVENT
DTSTART;TZID=America/New_York:20260421T020428
DTEND;TZID=America/New_York:20250908T160000
DTSTAMP:20260421T020428
CREATED:20250909T171502Z
LAST-MODIFIED:20250909T223957Z
UID:113413-0-1757347200@www.esap.edu.co
SUMMARY:Semana de la Salud Integral: mente sana
DESCRIPTION:
URL:https://www.esap.edu.co/evento/semana-de-la-salud-integral-mente-sana-2/
END:VEVENT
BEGIN:VEVENT
DTSTART;TZID=America/New_York:20260421T020428
DTEND;TZID=America/New_York:20250908T120000
DTSTAMP:20260421T020428
CREATED:20250909T171501Z
LAST-MODIFIED:20250909T223956Z
UID:113412-0-1757332800@www.esap.edu.co
SUMMARY:Semana de la Salud Integral: mente sana
DESCRIPTION:
URL:https://www.esap.edu.co/evento/semana-de-la-salud-integral-mente-sana/
END:VEVENT
BEGIN:VEVENT
DTSTART;TZID=America/New_York:20260421T020428
DTEND;TZID=America/New_York:20250820T140000
DTSTAMP:20260421T020428
CREATED:20250909T161212Z
LAST-MODIFIED:20250909T222907Z
UID:113314-0-1755698400@www.esap.edu.co
SUMMARY:Convivesap_Métele mente
DESCRIPTION:
URL:https://www.esap.edu.co/evento/convivesap_metele-mente/
CATEGORIES:Sede Principal CAN
END:VEVENT
BEGIN:VEVENT
DTSTART;TZID=America/New_York:20260421T020428
DTEND;TZID=America/New_York:20250819T160000
DTSTAMP:20260421T020428
CREATED:20250909T161211Z
LAST-MODIFIED:20250909T222907Z
UID:113313-0-1755619200@www.esap.edu.co
SUMMARY:Conversatorio Métodos anticonceptivos
DESCRIPTION:
URL:https://www.esap.edu.co/evento/conversatorio-metodos-anticonceptivos/
END:VEVENT
BEGIN:VEVENT
DTSTART;TZID=America/New_York:20260421T020428
DTEND;TZID=America/New_York:20260421T020428
DTSTAMP:20260421T020428
CREATED:20250909T023937Z
LAST-MODIFIED:20250909T024053Z
UID:113251-0-0@www.esap.edu.co
SUMMARY:Gobierno y catastro multiproposito
DESCRIPTION:
URL:https://www.esap.edu.co/evento/gobierno-y-catastro-multiproposito/
CATEGORIES:Escuela de Alto Gobierno
END:VEVENT
BEGIN:VEVENT
DTSTART;TZID=America/New_York:20260421T020428
DTEND;TZID=America/New_York:20260421T020428
DTSTAMP:20260421T020428
CREATED:20250909T023936Z
LAST-MODIFIED:20250909T024052Z
UID:113250-0-0@www.esap.edu.co
SUMMARY:Presupuesto público para el alto gobierno: cuentas y subcuentas territoriales
DESCRIPTION:
URL:https://www.esap.edu.co/evento/presupuesto-publico-para-el-alto-gobierno-cuentas-y-subcuentas-territoriales/
CATEGORIES:Escuela de Alto Gobierno
END:VEVENT
BEGIN:VEVENT
DTSTART;TZID=America/New_York:20260421T020428
DTEND;TZID=America/New_York:20260421T020428
DTSTAMP:20260421T020428
CREATED:20250909T023903Z
LAST-MODIFIED:20250909T024205Z
UID:113241-0-0@www.esap.edu.co
SUMMARY:Escuela de concejales
DESCRIPTION:
URL:https://www.esap.edu.co/evento/escuela-de-concejales/
CATEGORIES:Escuela de Alto Gobierno
END:VEVENT
BEGIN:VEVENT
DTSTART;TZID=America/New_York:20260421T020428
DTEND;TZID=America/New_York:20260421T020428
DTSTAMP:20260421T020428
CREATED:20250909T023902Z
LAST-MODIFIED:20250909T024204Z
UID:113240-0-0@www.esap.edu.co
SUMMARY:Personerías municipales: fortalecimiento y transición
DESCRIPTION:
URL:https://www.esap.edu.co/evento/personerias-municipales-fortalecimiento-y-transicion/
CATEGORIES:Escuela de Alto Gobierno
END:VEVENT
BEGIN:VEVENT
DTSTART;TZID=America/New_York:20260421T020428
DTEND;TZID=America/New_York:20260421T020428
DTSTAMP:20260421T020428
CREATED:20250909T023901Z
LAST-MODIFIED:20250909T024204Z
UID:113239-0-0@www.esap.edu.co
SUMMARY:Gestión estratégica de cartera y cobro coactivo desde el alto Gobierno
DESCRIPTION:
URL:https://www.esap.edu.co/evento/gestion-estrategica-de-cartera-y-cobro-coactivo-desde-el-alto-gobierno/
CATEGORIES:Escuela de Alto Gobierno
END:VEVENT
BEGIN:VEVENT
DTSTART;TZID=America/New_York:20260421T020428
DTEND;TZID=America/New_York:20260421T020428
DTSTAMP:20260421T020428
CREATED:20250909T023900Z
LAST-MODIFIED:20250909T024204Z
UID:113238-0-0@www.esap.edu.co
SUMMARY:Responsabilidad contractual para el alto gobierno
DESCRIPTION:
URL:https://www.esap.edu.co/evento/responsabilidad-contractual-para-el-alto-gobierno/
CATEGORIES:Escuela de Alto Gobierno
END:VEVENT
BEGIN:VEVENT
DTSTART;TZID=America/New_York:20260421T020428
DTEND;TZID=America/New_York:20260421T020428
DTSTAMP:20260421T020428
CREATED:20250909T023859Z
LAST-MODIFIED:20250909T024203Z
UID:113237-0-0@www.esap.edu.co
SUMMARY:Gobierno  y politicas publicas
DESCRIPTION:
URL:https://www.esap.edu.co/evento/gobierno-y-politicas-publicas/
CATEGORIES:Escuela de Alto Gobierno
END:VEVENT
BEGIN:VEVENT
DTSTART;TZID=America/New_York:20260421T020428
DTEND;TZID=America/New_York:20260421T020428
DTSTAMP:20260421T020428
CREATED:20250909T023832Z
LAST-MODIFIED:20250909T023852Z
UID:113232-0-0@www.esap.edu.co
SUMMARY:Plataforma Estratégica - Dialogo Multiestamentario - Balance de Metas
DESCRIPTION:
URL:https://www.esap.edu.co/evento/plataforma-estrategica-dialogo-multiestamentario-balance-de-metas/
CATEGORIES:Dirección Territorial Cundinamarca
END:VEVENT
BEGIN:VEVENT
DTSTART;TZID=America/New_York:20260421T020428
DTEND;TZID=America/New_York:20260421T020428
DTSTAMP:20260421T020428
CREATED:20250909T023831Z
LAST-MODIFIED:20250909T023852Z
UID:113231-0-0@www.esap.edu.co
SUMMARY:Encuentro de diálogo “la ESAP en acción\, recorriendo sueños” 2025-I (Rendición de cuentas Nacional)
DESCRIPTION:
URL:https://www.esap.edu.co/evento/encuentro-de-dialogo-la-esap-en-accion-recorriendo-suenos-2025-i-rendicion-de-cuentas-nacional/
CATEGORIES:Dirección Nacional - Oficina de Planeación
END:VEVENT
BEGIN:VEVENT
DTSTART;TZID=America/New_York:20260421T020428
DTEND;TZID=America/New_York:20260421T020428
DTSTAMP:20260421T020428
CREATED:20231005T235933Z
LAST-MODIFIED:20231005T235933Z
UID:81795-0-0@www.esap.edu.co
SUMMARY:Segunda feria educativa de la ruralidad en el marco del mercado campesino
DESCRIPTION:Acción Participativa:Escenarios de relacionamiento con nuestros grupos de valor- en donde se busca promover y destacar los servicios y oferta institucionalGrupos de valorEstudiantes y docentes de la instituciónContactosergio.zabala@esap.edu.co
URL:https://www.esap.edu.co/evento/segunda-feria-educativa-de-la-ruralidad-en-el-marco-del-mercado-campesino/
CATEGORIES:Dirección de Atención al Ciduadano
END:VEVENT
BEGIN:VEVENT
DTSTART;TZID=America/New_York:20260421T020428
DTEND;TZID=America/New_York:20260421T020428
DTSTAMP:20260421T020428
CREATED:20231005T235932Z
LAST-MODIFIED:20231005T235932Z
UID:81792-0-0@www.esap.edu.co
SUMMARY:Feria educativa de la localidad Usme
DESCRIPTION:Acción Participativa:Escenarios de relacionamiento con nuestros grupos de valor- en donde se busca promover y destacar los servicios y oferta institucionalGrupos de valorEstudiantes y docentes de la instituciónContactosergio.zabala@esap.edu.co
URL:https://www.esap.edu.co/evento/feria-educativa-de-la-localidad-usme/
CATEGORIES:Dirección de Atención al Ciduadano
END:VEVENT
BEGIN:VEVENT
DTSTART;TZID=America/New_York:20260421T020428
DTEND;TZID=America/New_York:20260421T020428
DTSTAMP:20260421T020428
CREATED:20231005T235932Z
LAST-MODIFIED:20231005T235932Z
UID:81793-0-0@www.esap.edu.co
SUMMARY:Feria educativa de la localidad Usme
DESCRIPTION:Acción Participativa:Escenarios de relacionamiento con nuestros grupos de valor- en donde se busca promover y destacar los servicios y oferta institucionalGrupos de valorEstudiantes y docentes de la instituciónContactosergio.zabala@esap.edu.co
URL:https://www.esap.edu.co/evento/feria-educativa-de-la-localidad-usme-2/
CATEGORIES:Dirección de Atención al Ciduadano
END:VEVENT
BEGIN:VEVENT
DTSTART;TZID=America/New_York:20260421T020428
DTEND;TZID=America/New_York:20260421T020428
DTSTAMP:20260421T020428
CREATED:20231005T235932Z
LAST-MODIFIED:20231005T235932Z
UID:81794-0-0@www.esap.edu.co
SUMMARY:Segunda feria educativa
DESCRIPTION:Acción Participativa:Escenarios de relacionamiento con nuestros grupos de valor- en donde se busca promover y destacar los servicios y oferta institucionalGrupos de valorEstudiantes y docentes de la instituciónContactosergio.zabala@esap.edu.co
URL:https://www.esap.edu.co/evento/segunda-feria-educativa/
CATEGORIES:Dirección de Atención al Ciduadano
END:VEVENT
BEGIN:VEVENT
DTSTART;TZID=America/New_York:20260421T020428
DTEND;TZID=America/New_York:20260421T020428
DTSTAMP:20260421T020428
CREATED:20231005T235916Z
LAST-MODIFIED:20231005T235916Z
UID:81789-0-0@www.esap.edu.co
SUMMARY:Juntémonos: el festival para tejer lo público
DESCRIPTION:Acción Participativa:Escenarios de relacionamiento con nuestros grupos de valor- en donde se busca promover y destacar los servicios y oferta institucionalGrupos de valorCiudadania en generalContactosergio.zabala@esap.edu.co
URL:https://www.esap.edu.co/evento/juntemonos-el-festival-para-tejer-lo-publico-3/
CATEGORIES:Dirección de Atención al Ciduadano
END:VEVENT
BEGIN:VEVENT
DTSTART;TZID=America/New_York:20260421T020428
DTEND;TZID=America/New_York:20260421T020428
DTSTAMP:20260421T020428
CREATED:20231005T235916Z
LAST-MODIFIED:20231005T235916Z
UID:81790-0-0@www.esap.edu.co
SUMMARY:Hackatón Distrital
DESCRIPTION:Acción Participativa:Escenarios de relacionamiento con nuestros grupos de valor- en donde se busca promover y destacar los servicios y oferta institucionalGrupos de valorCiudadania en generalContactosergio.zabala@esap.edu.co
URL:https://www.esap.edu.co/evento/hackaton-distrital/
CATEGORIES:Dirección de Atención al Ciduadano
END:VEVENT
BEGIN:VEVENT
DTSTART;TZID=America/New_York:20260421T020428
DTEND;TZID=America/New_York:20260421T020428
DTSTAMP:20260421T020428
CREATED:20231005T235916Z
LAST-MODIFIED:20231005T235916Z
UID:81791-0-0@www.esap.edu.co
SUMMARY:Estrategía Usme Móvil
DESCRIPTION:Acción Participativa:Escenarios de relacionamiento con nuestros grupos de valor- en donde se busca promover y destacar los servicios y oferta institucionalGrupos de valorCiudadania en generalContactosergio.zabala@esap.edu.co  adriana.nunez@esap.edu.co
URL:https://www.esap.edu.co/evento/estrategia-usme-movil/
CATEGORIES:Dirección de Atención al Ciduadano
END:VEVENT
BEGIN:VEVENT
DTSTART;TZID=America/New_York:20260421T020428
DTEND;TZID=America/New_York:20260421T020428
DTSTAMP:20260421T020428
CREATED:20231005T235915Z
LAST-MODIFIED:20231005T235915Z
UID:81787-0-0@www.esap.edu.co
SUMMARY:Feria Universitaria:“Atrévete a Soñar”
DESCRIPTION:Acción Participativa:Escenarios de relacionamiento con nuestros grupos de valor- en donde se busca promover y destacar los servicios y oferta institucionalGrupos de valorEstudiantes y docentes de la instituciónContactosergio.zabala@esap.edu.co
URL:https://www.esap.edu.co/evento/feria-universitariaatrevete-a-sonar/
CATEGORIES:Dirección de Atención al Ciduadano
END:VEVENT
BEGIN:VEVENT
DTSTART;TZID=America/New_York:20260421T020428
DTEND;TZID=America/New_York:20260421T020428
DTSTAMP:20260421T020428
CREATED:20231005T235915Z
LAST-MODIFIED:20231005T235915Z
UID:81788-0-0@www.esap.edu.co
SUMMARY:Feria Universitaria
DESCRIPTION:Acción Participativa:Escenarios de relacionamiento con nuestros grupos de valor- en donde se busca promover y destacar los servicios y oferta institucionalGrupos de valorEstudiantes y docentes de la instituciónContactosergio.zabala@esap.edu.co
URL:https://www.esap.edu.co/evento/feria-universitaria/
CATEGORIES:Dirección de Atención al Ciduadano
END:VEVENT
BEGIN:VEVENT
DTSTART;TZID=America/New_York:20260421T020428
DTEND;TZID=America/New_York:20260421T020428
DTSTAMP:20260421T020428
CREATED:20231005T235913Z
LAST-MODIFIED:20231005T235913Z
UID:81786-0-0@www.esap.edu.co
SUMMARY:Feria educativa de la localidad Rafael Uribe Uribe
DESCRIPTION:Acción Participativa:Escenarios de relacionamiento con nuestros grupos de valor- en donde se busca promover y destacar los servicios y oferta institucionalGrupos de valorEstudiantes y docentes de la instituciónContactosergio.zabala@esap.edu.co
URL:https://www.esap.edu.co/evento/feria-educativa-de-la-localidad-rafael-uribe-uribe/
CATEGORIES:Dirección de Atención al Ciduadano
END:VEVENT
BEGIN:VEVENT
DTSTART;TZID=America/New_York:20260421T020428
DTEND;TZID=America/New_York:20260421T020428
DTSTAMP:20260421T020428
CREATED:20231005T235912Z
LAST-MODIFIED:20231005T235912Z
UID:81784-0-0@www.esap.edu.co
SUMMARY:Feria educativa de la localidad Mártires
DESCRIPTION:Acción Participativa:Escenarios de relacionamiento con nuestros grupos de valor- en donde se busca promover y destacar los servicios y oferta institucionalGrupos de valorEstudiantes y docentes de la instituciónContactosergio.zabala@esap.edu.co
URL:https://www.esap.edu.co/evento/feria-educativa-de-la-localidad-martires/
CATEGORIES:Dirección de Atención al Ciduadano
END:VEVENT
BEGIN:VEVENT
DTSTART;TZID=America/New_York:20260421T020428
DTEND;TZID=America/New_York:20260421T020428
DTSTAMP:20260421T020428
CREATED:20231005T235912Z
LAST-MODIFIED:20231005T235912Z
UID:81785-0-0@www.esap.edu.co
SUMMARY:Feria educativa de la localidad Kennedy
DESCRIPTION:Acción Participativa:Escenarios de relacionamiento con nuestros grupos de valor- en donde se busca promover y destacar los servicios y oferta institucionalGrupos de valorEstudiantes y docentes de la instituciónContactosergio.zabala@esap.edu.co
URL:https://www.esap.edu.co/evento/feria-educativa-de-la-localidad-kennedy/
CATEGORIES:Dirección de Atención al Ciduadano
END:VEVENT
END:VCALENDAR